BEGIN:VCALENDAR
VERSION:2.0
PRODID:-//Bud &amp; Rita&#039;s - ECPv6.15.17.1//NONSGML v1.0//EN
CALSCALE:GREGORIAN
METHOD:PUBLISH
X-ORIGINAL-URL:https://budandritas.com
X-WR-CALDESC:Events for Bud &amp; Rita&#039;s
REFRESH-INTERVAL;VALUE=DURATION:PT1H
X-Robots-Tag:noindex
X-PUBLISHED-TTL:PT1H
BEGIN:VTIMEZONE
TZID:America/Chicago
BEGIN:DAYLIGHT
TZOFFSETFROM:-0600
TZOFFSETTO:-0500
TZNAME:CDT
DTSTART:20230312T080000
END:DAYLIGHT
BEGIN:STANDARD
TZOFFSETFROM:-0500
TZOFFSETTO:-0600
TZNAME:CST
DTSTART:20231105T070000
END:STANDARD
BEGIN:DAYLIGHT
TZOFFSETFROM:-0600
TZOFFSETTO:-0500
TZNAME:CDT
DTSTART:20240310T080000
END:DAYLIGHT
BEGIN:STANDARD
TZOFFSETFROM:-0500
TZOFFSETTO:-0600
TZNAME:CST
DTSTART:20241103T070000
END:STANDARD
BEGIN:DAYLIGHT
TZOFFSETFROM:-0600
TZOFFSETTO:-0500
TZNAME:CDT
DTSTART:20250309T080000
END:DAYLIGHT
BEGIN:STANDARD
TZOFFSETFROM:-0500
TZOFFSETTO:-0600
TZNAME:CST
DTSTART:20251102T070000
END:STANDARD
END:VTIMEZONE
BEGIN:VEVENT
DTSTART;TZID=America/Chicago:20240825T120000
DTEND;TZID=America/Chicago:20240825T170000
DTSTAMP:20260422T113907
CREATED:20240822T204830Z
LAST-MODIFIED:20240822T204858Z
UID:37006-1724587200-1724605200@budandritas.com
SUMMARY:Bud & Rita's @ AGA Agriculture and Gardening Fair
DESCRIPTION:Come say hi to us at the Avondale Agriculture and Gardening Fair hosted by the Avondale Gardening Alliance this weekend! \n\n\nTour Avondale gardens and learn about all things urban agriculture and sustainability. From noon to 5 pm on Sunday\, August 25\, visit a number of yards and other locations in a walkable area of East Avondale. Pick up a paper map from the welcome booth at Concordia Place at 3300 N Whipple that day.
URL:https://budandritas.com/event/bud-ritas-aga-agriculture-and-gardening-fair/
LOCATION:3300 N Whipple St.\, 3300 N Whipple St.\, Chicago\, IL\, 60618
ATTACH;FMTTYPE=image/png:https://budandritas.com/wp-content/uploads/2024/08/BUD-RITAS-@-AGA-AGRICULTURAL-GARDENING-FAIR.png
END:VEVENT
END:VCALENDAR