BEGIN:VCALENDAR
VERSION:2.0
PRODID:-//Bud &amp; Rita&#039;s - ECPv6.15.17.1//NONSGML v1.0//EN
CALSCALE:GREGORIAN
METHOD:PUBLISH
X-ORIGINAL-URL:https://budandritas.com
X-WR-CALDESC:Events for Bud &amp; Rita&#039;s
REFRESH-INTERVAL;VALUE=DURATION:PT1H
X-Robots-Tag:noindex
X-PUBLISHED-TTL:PT1H
BEGIN:VTIMEZONE
TZID:America/Chicago
BEGIN:DAYLIGHT
TZOFFSETFROM:-0600
TZOFFSETTO:-0500
TZNAME:CDT
DTSTART:20230312T080000
END:DAYLIGHT
BEGIN:STANDARD
TZOFFSETFROM:-0500
TZOFFSETTO:-0600
TZNAME:CST
DTSTART:20231105T070000
END:STANDARD
BEGIN:DAYLIGHT
TZOFFSETFROM:-0600
TZOFFSETTO:-0500
TZNAME:CDT
DTSTART:20240310T080000
END:DAYLIGHT
BEGIN:STANDARD
TZOFFSETFROM:-0500
TZOFFSETTO:-0600
TZNAME:CST
DTSTART:20241103T070000
END:STANDARD
BEGIN:DAYLIGHT
TZOFFSETFROM:-0600
TZOFFSETTO:-0500
TZNAME:CDT
DTSTART:20250309T080000
END:DAYLIGHT
BEGIN:STANDARD
TZOFFSETFROM:-0500
TZOFFSETTO:-0600
TZNAME:CST
DTSTART:20251102T070000
END:STANDARD
END:VTIMEZONE
BEGIN:VEVENT
DTSTART;TZID=America/Chicago:20240923T090000
DTEND;TZID=America/Chicago:20240929T210000
DTSTAMP:20260422T102917
CREATED:20240919T185524Z
LAST-MODIFIED:20240919T185524Z
UID:40821-1727082000-1727643600@budandritas.com
SUMMARY:Guest Appreciation Week
DESCRIPTION:9/23 | Musical Monday\n\nWear your favorite band or concert t-shirt and receive a $1 pre-roll! \n\n9/24 | Tailin’ Tuesday\n\nBring your furry pet in costume (or not that’s ok too!) to add to our polaroid wall. Pet themed accessories on sale. Frisbee & dog bowl combo for $15. \n\n\n9/25 | Wellness Wednesday\n\nSwing by our Avondale location for yoga by The Groove Chicago. Niles will have a build your own bouquet station. Sale on products like Unwind Topicals\, Margo’s Herbal Mints\, etc. \n\n\n9/26 | Tie-Dye Thursday\n\nWe will have tie-dye stations from 4-6 pm at each location. Enjoy a Bud & Rita’s sale on all t-shirts for just $15. \n\n\n9/27 | Fine Art Friday\n\nJoin us for the fine art activities of DIY flower pots at Niles and DIY roach clips at Avondale. We’ll have some snacks & drinks for you to get cozy! \n\n\n9/28 | Synergy Saturday\n\nWeekend Bonanza will be in full effect! We’ll have brand activations from cultivators. Get educated & grab some swag. Avondale will even have joint rolling education by our Budristas from 11-2 and 5-7. \n\n\n9/29 | Sunday Funday\n\nShow your team spirit by wearing your favorite team jersey. Receive 30% off all edibles in exchange!
URL:https://budandritas.com/event/guest-appreciation-week/
ATTACH;FMTTYPE=image/png:https://budandritas.com/wp-content/uploads/2024/09/BUD-RITAS-GUEST-APPRECIATION-WEEK.png
END:VEVENT
BEGIN:VEVENT
DTSTART;TZID=America/Chicago:20240924T053000
DTEND;TZID=America/Chicago:20240924T193000
DTSTAMP:20260422T102917
CREATED:20240924T203705Z
LAST-MODIFIED:20240924T203705Z
UID:41639-1727155800-1727206200@budandritas.com
SUMMARY:Airo Pup-Up @ Avondale
DESCRIPTION:Learn more about your favorite products from Airo!
URL:https://budandritas.com/event/airo-pup-up-avondale/
LOCATION:Bud & Rita’s – Avondale\, 3425 W Belmont Ave\, Chicago\, IL\, 60618
ATTACH;FMTTYPE=image/png:https://budandritas.com/wp-content/uploads/2024/09/AIRO-@-AVONDALE.png
END:VEVENT
BEGIN:VEVENT
DTSTART;TZID=America/Chicago:20240924T190000
DTEND;TZID=America/Chicago:20240924T220000
DTSTAMP:20260422T102917
CREATED:20240725T182955Z
LAST-MODIFIED:20240725T183338Z
UID:34778-1727204400-1727215200@budandritas.com
SUMMARY:Industry Nights @ Homestead on the Roof Featuring Kaleidosmokes
DESCRIPTION:Work in the hospitality industry? Enjoy free eats\, dank deals\, music & swag every Tuesday at Homestead on the Roof! Every week we’ll showcase a new product or brand: \n  \nJuly 30: SLIMS\nAugust 6: JOOS 1G Disposable Pen\nAugust 13: Twenty Twenty 1G Pre-Roll\nAugust 20: Half Acre Second Setting\nAugust 27: NGW Flower\nSeptember 3: JOOS Vapes\nSeptember 10: NGW Concentrates\nSeptember 17: Graffiti Flower\nSeptember 24: Kaleidosmokes \n  \nThis week: Kaleidosmokes
URL:https://budandritas.com/event/9-24-industry-nights-homestead-on-the-roof/
LOCATION:Homestead on the Roof\, 1924 W Chicago Ave\, Chicago\, IL\, 60622
ATTACH;FMTTYPE=image/png:https://budandritas.com/wp-content/uploads/2024/07/INDUSTRY-NIGHTS-1.png
END:VEVENT
END:VCALENDAR