BEGIN:VCALENDAR
VERSION:2.0
PRODID:-//Bud &amp; Rita&#039;s - ECPv6.15.17.1//NONSGML v1.0//EN
CALSCALE:GREGORIAN
METHOD:PUBLISH
X-ORIGINAL-URL:https://budandritas.com
X-WR-CALDESC:Events for Bud &amp; Rita&#039;s
REFRESH-INTERVAL;VALUE=DURATION:PT1H
X-Robots-Tag:noindex
X-PUBLISHED-TTL:PT1H
BEGIN:VTIMEZONE
TZID:America/Chicago
BEGIN:DAYLIGHT
TZOFFSETFROM:-0600
TZOFFSETTO:-0500
TZNAME:CDT
DTSTART:20240310T080000
END:DAYLIGHT
BEGIN:STANDARD
TZOFFSETFROM:-0500
TZOFFSETTO:-0600
TZNAME:CST
DTSTART:20241103T070000
END:STANDARD
BEGIN:DAYLIGHT
TZOFFSETFROM:-0600
TZOFFSETTO:-0500
TZNAME:CDT
DTSTART:20250309T080000
END:DAYLIGHT
BEGIN:STANDARD
TZOFFSETFROM:-0500
TZOFFSETTO:-0600
TZNAME:CST
DTSTART:20251102T070000
END:STANDARD
BEGIN:DAYLIGHT
TZOFFSETFROM:-0600
TZOFFSETTO:-0500
TZNAME:CDT
DTSTART:20260308T080000
END:DAYLIGHT
BEGIN:STANDARD
TZOFFSETFROM:-0500
TZOFFSETTO:-0600
TZNAME:CST
DTSTART:20261101T070000
END:STANDARD
END:VTIMEZONE
BEGIN:VEVENT
DTSTART;TZID=America/Chicago:20250417T110000
DTEND;TZID=America/Chicago:20250417T150000
DTSTAMP:20260422T001855
CREATED:20250410T210336Z
LAST-MODIFIED:20250410T210336Z
UID:102647-1744887600-1744902000@budandritas.com
SUMMARY:Otto's Glass Blowing @ Wadsworth
DESCRIPTION:Have your mind blown while watching a glass blowing demonstration by Otto’s Custom Glass & Smoke Shop 🔥 as part of our 420 Variety Show running all week long\, leading up to 420!
URL:https://budandritas.com/event/ottos-glass-blowing-wadsworth/
LOCATION:Bud & Rita’s – Wadsworth\, 41509 US Hwy 41\, Wadsworth\, IL\, 60083\, United States
ATTACH;FMTTYPE=image/png:https://budandritas.com/wp-content/uploads/2025/04/GLASS-BLOWING-@-WADSWORTH.png
END:VEVENT
BEGIN:VEVENT
DTSTART;TZID=America/Chicago:20250417T180000
DTEND;TZID=America/Chicago:20250417T200000
DTSTAMP:20260422T001855
CREATED:20250410T210444Z
LAST-MODIFIED:20250410T210444Z
UID:102649-1744912800-1744920000@budandritas.com
SUMMARY:King Caricatures @ West Town
DESCRIPTION:Stop by to have your portrait drawn live by the talented caricature artist Solomon Bovey ✏️ as part of our 420 Variety Show running all week long\, leading up to 420!
URL:https://budandritas.com/event/king-caricatures-west-town/
LOCATION:Bud & Rita’s – West Town\, 1914 W Chicago Ave\, Chicago\, IL\, 60622\, United States
ATTACH;FMTTYPE=image/png:https://budandritas.com/wp-content/uploads/2025/04/CARICATURES-@-NILES-2.png
END:VEVENT
END:VCALENDAR