BEGIN:VCALENDAR
VERSION:2.0
PRODID:-//Bud &amp; Rita&#039;s - ECPv6.15.17.1//NONSGML v1.0//EN
CALSCALE:GREGORIAN
METHOD:PUBLISH
X-WR-CALNAME:Bud &amp; Rita&#039;s
X-ORIGINAL-URL:https://budandritas.com
X-WR-CALDESC:Events for Bud &amp; Rita&#039;s
REFRESH-INTERVAL;VALUE=DURATION:PT1H
X-Robots-Tag:noindex
X-PUBLISHED-TTL:PT1H
BEGIN:VTIMEZONE
TZID:America/Chicago
BEGIN:DAYLIGHT
TZOFFSETFROM:-0600
TZOFFSETTO:-0500
TZNAME:CDT
DTSTART:20240310T080000
END:DAYLIGHT
BEGIN:STANDARD
TZOFFSETFROM:-0500
TZOFFSETTO:-0600
TZNAME:CST
DTSTART:20241103T070000
END:STANDARD
BEGIN:DAYLIGHT
TZOFFSETFROM:-0600
TZOFFSETTO:-0500
TZNAME:CDT
DTSTART:20250309T080000
END:DAYLIGHT
BEGIN:STANDARD
TZOFFSETFROM:-0500
TZOFFSETTO:-0600
TZNAME:CST
DTSTART:20251102T070000
END:STANDARD
BEGIN:DAYLIGHT
TZOFFSETFROM:-0600
TZOFFSETTO:-0500
TZNAME:CDT
DTSTART:20260308T080000
END:DAYLIGHT
BEGIN:STANDARD
TZOFFSETFROM:-0500
TZOFFSETTO:-0600
TZNAME:CST
DTSTART:20261101T070000
END:STANDARD
END:VTIMEZONE
BEGIN:VEVENT
DTSTART;TZID=America/Chicago:20250419T110000
DTEND;TZID=America/Chicago:20250419T150000
DTSTAMP:20260422T001846
CREATED:20250410T210846Z
LAST-MODIFIED:20250410T210846Z
UID:102657-1745060400-1745074800@budandritas.com
SUMMARY:Otto’s Glass Blowing @ Niles
DESCRIPTION:Have your mind blown while watching a glass blowing demonstration by Otto’s Custom Glass & Smoke Shop 🔥 as part of our 420 Variety Show running all week long\, leading up to 420!
URL:https://budandritas.com/event/ottos-glass-blowing-niles/
LOCATION:Bud & Rita’s – Niles\, 5960 W Touhy Ave\, Niles\, IL\, 60714
ATTACH;FMTTYPE=image/png:https://budandritas.com/wp-content/uploads/2025/04/GLASS-BLOWING-@-NILES.png
END:VEVENT
BEGIN:VEVENT
DTSTART;TZID=America/Chicago:20250419T120000
DTEND;TZID=America/Chicago:20250419T140000
DTSTAMP:20260422T001846
CREATED:20250410T210955Z
LAST-MODIFIED:20250410T210955Z
UID:102659-1745064000-1745071200@budandritas.com
SUMMARY:King Caricatures @ Wadsworth
DESCRIPTION:Stop by to have your portrait drawn live by the talented caricature artist Solomon Bovey ✏️ as part of our 420 Variety Show running all week long\, leading up to 420!
URL:https://budandritas.com/event/king-caricatures-wadsworth/
LOCATION:Bud & Rita’s – Wadsworth\, 41509 US Hwy 41\, Wadsworth\, IL\, 60083\, United States
ATTACH;FMTTYPE=image/png:https://budandritas.com/wp-content/uploads/2025/04/CARICATURES-@-NILES-3.png
END:VEVENT
BEGIN:VEVENT
DTSTART;TZID=America/Chicago:20250419T150000
DTEND;TZID=America/Chicago:20250419T160000
DTSTAMP:20260422T001846
CREATED:20250410T211146Z
LAST-MODIFIED:20250410T211146Z
UID:102675-1745074800-1745078400@budandritas.com
SUMMARY:Psychic Fatima @ West Town
DESCRIPTION:Open your mind & experience a Tarot reading from the fabulous Psychic Fatima 🔮 as part of our 420 Variety Show running all week long\, leading up to 420!
URL:https://budandritas.com/event/psychic-fatima-west-town/
LOCATION:Bud & Rita’s – Niles\, 5960 W Touhy Ave\, Niles\, IL\, 60714
ATTACH;FMTTYPE=image/png:https://budandritas.com/wp-content/uploads/2025/04/TAROT-@-WEST-TOWN.png
END:VEVENT
END:VCALENDAR