BEGIN:VCALENDAR
VERSION:2.0
PRODID:-//Bud &amp; Rita&#039;s - ECPv6.15.17.1//NONSGML v1.0//EN
CALSCALE:GREGORIAN
METHOD:PUBLISH
X-WR-CALNAME:Bud &amp; Rita&#039;s
X-ORIGINAL-URL:https://budandritas.com
X-WR-CALDESC:Events for Bud &amp; Rita&#039;s
REFRESH-INTERVAL;VALUE=DURATION:PT1H
X-Robots-Tag:noindex
X-PUBLISHED-TTL:PT1H
BEGIN:VTIMEZONE
TZID:America/Chicago
BEGIN:DAYLIGHT
TZOFFSETFROM:-0600
TZOFFSETTO:-0500
TZNAME:CDT
DTSTART:20230312T080000
END:DAYLIGHT
BEGIN:STANDARD
TZOFFSETFROM:-0500
TZOFFSETTO:-0600
TZNAME:CST
DTSTART:20231105T070000
END:STANDARD
BEGIN:DAYLIGHT
TZOFFSETFROM:-0600
TZOFFSETTO:-0500
TZNAME:CDT
DTSTART:20240310T080000
END:DAYLIGHT
BEGIN:STANDARD
TZOFFSETFROM:-0500
TZOFFSETTO:-0600
TZNAME:CST
DTSTART:20241103T070000
END:STANDARD
BEGIN:DAYLIGHT
TZOFFSETFROM:-0600
TZOFFSETTO:-0500
TZNAME:CDT
DTSTART:20250309T080000
END:DAYLIGHT
BEGIN:STANDARD
TZOFFSETFROM:-0500
TZOFFSETTO:-0600
TZNAME:CST
DTSTART:20251102T070000
END:STANDARD
BEGIN:DAYLIGHT
TZOFFSETFROM:-0600
TZOFFSETTO:-0500
TZNAME:CDT
DTSTART:20260308T080000
END:DAYLIGHT
BEGIN:STANDARD
TZOFFSETFROM:-0500
TZOFFSETTO:-0600
TZNAME:CST
DTSTART:20261101T070000
END:STANDARD
END:VTIMEZONE
BEGIN:VEVENT
DTSTART;TZID=America/Chicago:20250418T160000
DTEND;TZID=America/Chicago:20250418T200000
DTSTAMP:20260421T214115
CREATED:20250410T210545Z
LAST-MODIFIED:20250411T183841Z
UID:102651-1744992000-1745006400@budandritas.com
SUMMARY:Otto’s Glass Blowing @ Avondale
DESCRIPTION:Have your mind blown while watching a glass blowing demonstration by Otto’s Custom Glass & Smoke Shop 🔥 as part of our 420 Variety Show running all week long\, leading up to 420!
URL:https://budandritas.com/event/ottos-glass-blowing-avondale/
LOCATION:Bud & Rita’s – Avondale\, 3425 W Belmont Ave\, Chicago\, IL\, 60618
ATTACH;FMTTYPE=image/png:https://budandritas.com/wp-content/uploads/2025/04/GLASS-BLOWING-@-AVONDALE.png
END:VEVENT
BEGIN:VEVENT
DTSTART;TZID=America/Chicago:20250418T150000
DTEND;TZID=America/Chicago:20250418T160000
DTSTAMP:20260421T214115
CREATED:20250410T210701Z
LAST-MODIFIED:20250410T210701Z
UID:102653-1744988400-1744992000@budandritas.com
SUMMARY:Psychic Fatima @ Niles
DESCRIPTION:Open your mind & experience a Tarot reading from the fabulous Psychic Fatima 🔮 as part of our 420 Variety Show running all week long\, leading up to 420!
URL:https://budandritas.com/event/psychic-fatima-niles/
LOCATION:Bud & Rita’s – Niles\, 5960 W Touhy Ave\, Niles\, IL\, 60714
ATTACH;FMTTYPE=image/png:https://budandritas.com/wp-content/uploads/2025/04/TAROT-@-NILES.png
END:VEVENT
BEGIN:VEVENT
DTSTART;TZID=America/Chicago:20250418T110000
DTEND;TZID=America/Chicago:20250418T150000
DTSTAMP:20260421T214115
CREATED:20250410T210752Z
LAST-MODIFIED:20250411T183735Z
UID:102655-1744974000-1744988400@budandritas.com
SUMMARY:Otto’s Glass Blowing @ West Town
DESCRIPTION:Have your mind blown while watching a glass blowing demonstration by Otto’s Custom Glass & Smoke Shop 🔥 as part of our 420 Variety Show running all week long\, leading up to 420!
URL:https://budandritas.com/event/ottos-glass-blowing-west-town/
LOCATION:Bud & Rita’s – West Town\, 1914 W Chicago Ave\, Chicago\, IL\, 60622\, United States
ATTACH;FMTTYPE=image/png:https://budandritas.com/wp-content/uploads/2025/04/GLASS-BLOWING-@-WEST-TOWN.png
END:VEVENT
BEGIN:VEVENT
DTSTART;TZID=America/Chicago:20250417T180000
DTEND;TZID=America/Chicago:20250417T200000
DTSTAMP:20260421T214115
CREATED:20250410T210444Z
LAST-MODIFIED:20250410T210444Z
UID:102649-1744912800-1744920000@budandritas.com
SUMMARY:King Caricatures @ West Town
DESCRIPTION:Stop by to have your portrait drawn live by the talented caricature artist Solomon Bovey ✏️ as part of our 420 Variety Show running all week long\, leading up to 420!
URL:https://budandritas.com/event/king-caricatures-west-town/
LOCATION:Bud & Rita’s – West Town\, 1914 W Chicago Ave\, Chicago\, IL\, 60622\, United States
ATTACH;FMTTYPE=image/png:https://budandritas.com/wp-content/uploads/2025/04/CARICATURES-@-NILES-2.png
END:VEVENT
BEGIN:VEVENT
DTSTART;TZID=America/Chicago:20250417T110000
DTEND;TZID=America/Chicago:20250417T150000
DTSTAMP:20260421T214115
CREATED:20250410T210336Z
LAST-MODIFIED:20250410T210336Z
UID:102647-1744887600-1744902000@budandritas.com
SUMMARY:Otto's Glass Blowing @ Wadsworth
DESCRIPTION:Have your mind blown while watching a glass blowing demonstration by Otto’s Custom Glass & Smoke Shop 🔥 as part of our 420 Variety Show running all week long\, leading up to 420!
URL:https://budandritas.com/event/ottos-glass-blowing-wadsworth/
LOCATION:Bud & Rita’s – Wadsworth\, 41509 US Hwy 41\, Wadsworth\, IL\, 60083\, United States
ATTACH;FMTTYPE=image/png:https://budandritas.com/wp-content/uploads/2025/04/GLASS-BLOWING-@-WADSWORTH.png
END:VEVENT
BEGIN:VEVENT
DTSTART;TZID=America/Chicago:20250416T180000
DTEND;TZID=America/Chicago:20250416T200000
DTSTAMP:20260421T214115
CREATED:20250410T205956Z
LAST-MODIFIED:20250410T205956Z
UID:102643-1744826400-1744833600@budandritas.com
SUMMARY:King Caricatures @ Avondale
DESCRIPTION:Stop by to have your portrait drawn live by the talented caricature artist Solomon Bovey ✏️ as part of our 420 Variety Show running all week long\, leading up to 420!
URL:https://budandritas.com/event/king-caricatures-avondale/
LOCATION:Bud & Rita’s – Avondale\, 3425 W Belmont Ave\, Chicago\, IL\, 60618
ATTACH;FMTTYPE=image/png:https://budandritas.com/wp-content/uploads/2025/04/CARICATURES-@-NILES.png
END:VEVENT
BEGIN:VEVENT
DTSTART;TZID=America/Chicago:20250416T120000
DTEND;TZID=America/Chicago:20250416T130000
DTSTAMP:20260421T214115
CREATED:20250411T183625Z
LAST-MODIFIED:20250411T183625Z
UID:102732-1744804800-1744808400@budandritas.com
SUMMARY:Psychic Fatima @ Wadsworth
DESCRIPTION:Open your mind & experience a Tarot reading from the fabulous Psychic Fatima 🔮 as part of our 420 Variety Show running all week long\, leading up to 420!
URL:https://budandritas.com/event/psychic-fatima-wadsworth-2/
LOCATION:Bud & Rita’s – Wadsworth\, 41509 US Hwy 41\, Wadsworth\, IL\, 60083\, United States
ATTACH;FMTTYPE=image/png:https://budandritas.com/wp-content/uploads/2025/04/TAROT-@-WADSWORTH.png
END:VEVENT
BEGIN:VEVENT
DTSTART;TZID=America/Chicago:20250415T153000
DTEND;TZID=America/Chicago:20250415T173000
DTSTAMP:20260421T214115
CREATED:20250410T205625Z
LAST-MODIFIED:20250410T205625Z
UID:102641-1744731000-1744738200@budandritas.com
SUMMARY:Israel Mandrake’s Mind Magick @ Wadsworth
DESCRIPTION:Experience mind melting magic from the  award-winning mentalist Israel Mandrake 🪄 as part of our 420 Variety Show running all week long\, leading up to 420!
URL:https://budandritas.com/event/israel-mandrakes-mind-magick-wadsworth/
LOCATION:Bud & Rita’s – Wadsworth\, 41509 US Hwy 41\, Wadsworth\, IL\, 60083\, United States
ATTACH;FMTTYPE=image/png:https://budandritas.com/wp-content/uploads/2025/04/MAGIC-@-WADSWORTH.png
END:VEVENT
BEGIN:VEVENT
DTSTART;TZID=America/Chicago:20250415T120000
DTEND;TZID=America/Chicago:20250415T140000
DTSTAMP:20260421T214115
CREATED:20250410T205536Z
LAST-MODIFIED:20250410T205536Z
UID:102639-1744718400-1744725600@budandritas.com
SUMMARY:Israel Mandrake’s Mind Magick @ Niles
DESCRIPTION:Experience mind melting magic from the  award-winning mentalist Israel Mandrake 🪄 as part of our 420 Variety Show running all week long\, leading up to 420!
URL:https://budandritas.com/event/israel-mandrakes-mind-magick-niles/
LOCATION:Bud & Rita’s – Niles\, 5960 W Touhy Ave\, Niles\, IL\, 60714
ATTACH;FMTTYPE=image/png:https://budandritas.com/wp-content/uploads/2025/04/MAGIC-@-NILES.png
END:VEVENT
BEGIN:VEVENT
DTSTART;TZID=America/Chicago:20250415T120000
DTEND;TZID=America/Chicago:20250415T130000
DTSTAMP:20260421T214115
CREATED:20250410T205236Z
LAST-MODIFIED:20250410T205236Z
UID:102622-1744718400-1744722000@budandritas.com
SUMMARY:Psychic Fatima @ Avondale
DESCRIPTION:Open your mind & experience a Tarot reading from the fabulous Psychic Fatima 🔮 as part of our 420 Variety Show running all week long\, leading up to 420!
URL:https://budandritas.com/event/psychic-fatima-avondale/
LOCATION:Bud & Rita’s – Avondale\, 3425 W Belmont Ave\, Chicago\, IL\, 60618
ATTACH;FMTTYPE=image/png:https://budandritas.com/wp-content/uploads/2025/04/TAROT-@-AVONDALE.png
END:VEVENT
BEGIN:VEVENT
DTSTART;TZID=America/Chicago:20250329T120000
DTEND;TZID=America/Chicago:20250329T160000
DTSTAMP:20260421T214115
CREATED:20250314T205227Z
LAST-MODIFIED:20250314T205346Z
UID:88830-1743249600-1743264000@budandritas.com
SUMMARY:Tattoo Parlor Pop-Up @ Avondale
DESCRIPTION:Ever get inked at a dispensary? Come by Bud & Rita’s Avondale on Saturday 3/29 to get a one-of-a-kind tattoo inspired by the creativity of Second Setting\, a collaborative brand from the minds of Half Acre Brewing and Nature’s Grace & Wellness! We’ve got 12 slots for you to sign up via our link in bio – the first five people to check in the day-of will get the chance to get inked by Chicago artist David Sugihara FOR FREE. After those first five folks are tatted\, customers will be charged accordingly based on the size of their tattoos. Tattoos are limited to our flash sheet only\nImportant Notes\nReservation to join that day will be capped at 12 people. Reserve your spot with a $15 charge that will be returned upon check-in the day of the event.  The first five people (who have signed up via our EventBrite) to check in will get tatted FOR FREE. Please note that reserving a slot does not guarantee a free tattoo.\nTattoo Locations limited to arms & legs only.\n1 tattoo per person.\nTattoo pricing will range from $100-$150 per tattoo after the first five customers – prices may vary based on size\, location\, and color.\nBe prepared to bring a valid ID. 21+ only. \n \n 
URL:https://budandritas.com/event/tattoo-parlor-pop-up-avondale/
LOCATION:Bud & Rita’s – Avondale\, 3425 W Belmont Ave\, Chicago\, IL\, 60618
ATTACH;FMTTYPE=image/png:https://budandritas.com/wp-content/uploads/2024/11/SECOND-SETTING-TATTOO-POP-UP-@-AVONDALE.png
END:VEVENT
BEGIN:VEVENT
DTSTART;TZID=America/Chicago:20250313T160000
DTEND;TZID=America/Chicago:20250313T190000
DTSTAMP:20260421T214115
CREATED:20250310T201154Z
LAST-MODIFIED:20250310T201211Z
UID:88027-1741881600-1741892400@budandritas.com
SUMMARY:Timeless @ West Town
DESCRIPTION:Learn more about your favorite products from Timeless from 4-7 at West Town!
URL:https://budandritas.com/event/88027/
LOCATION:Bud & Rita’s – West Town\, 1914 W Chicago Ave\, Chicago\, IL\, 60622\, United States
ATTACH;FMTTYPE=image/png:https://budandritas.com/wp-content/uploads/2025/03/TIMELESS-@-WEST-TOWN.png
END:VEVENT
BEGIN:VEVENT
DTSTART;TZID=America/Chicago:20250312T160000
DTEND;TZID=America/Chicago:20250314T190000
DTSTAMP:20260421T214115
CREATED:20250310T200838Z
LAST-MODIFIED:20250310T202904Z
UID:88014-1741795200-1741978800@budandritas.com
SUMMARY:Timeless @ Avondale
DESCRIPTION:Learn more about your favorite products from Timeless from 4-7 at Avondale!
URL:https://budandritas.com/event/timeless-avondale/
LOCATION:Bud & Rita’s – Avondale\, 3425 W Belmont Ave\, Chicago\, IL\, 60618
ATTACH;FMTTYPE=image/png:https://budandritas.com/wp-content/uploads/2025/03/BR-AVONDALE-3_12-TV.png.png
END:VEVENT
BEGIN:VEVENT
DTSTART;TZID=America/Chicago:20250312T160000
DTEND;TZID=America/Chicago:20250312T190000
DTSTAMP:20260421T214115
CREATED:20250310T200921Z
LAST-MODIFIED:20250310T202934Z
UID:88024-1741795200-1741806000@budandritas.com
SUMMARY:Timeless @ Niles
DESCRIPTION:Learn more about your favorite products from Timeless from 4-7 at Niles!
URL:https://budandritas.com/event/timeless/
LOCATION:Bud & Rita’s – Niles\, 5960 W Touhy Ave\, Niles\, IL\, 60714
ATTACH;FMTTYPE=image/png:https://budandritas.com/wp-content/uploads/2025/03/BR-WEST-TOWN-3_13-TV.png
END:VEVENT
BEGIN:VEVENT
DTSTART;TZID=America/Chicago:20250228T150000
DTEND;TZID=America/Chicago:20250302T150000
DTSTAMP:20260421T214115
CREATED:20250218T184325Z
LAST-MODIFIED:20250219T203300Z
UID:81847-1740754800-1740927600@budandritas.com
SUMMARY:Wadsworth Grand Opening!
DESCRIPTION:Join us this weekend to celebrate our Grand Opening & enjoy local food trucks\, merch giveaways\, 1¢ freebies\, Mega Pot Luck Raffles\, and MORE! \n  \nFriday: 3PM – 7PM \nSaturday: 11AM – 5PM (Ribbon Cutting: 1pm) \nSunday: 11AM – 3PM \n 
URL:https://budandritas.com/event/wadswoth-grand-opening/
LOCATION:Bud & Rita’s – Wadsworth\, 41509 US Hwy 41\, Wadsworth\, IL\, 60083\, United States
ATTACH;FMTTYPE=image/png:https://budandritas.com/wp-content/uploads/2025/02/GRAND-OPENING-@-WADSWORTH.png
END:VEVENT
BEGIN:VEVENT
DTSTART;TZID=America/Chicago:20250122T150000
DTEND;TZID=America/Chicago:20250122T170000
DTSTAMP:20260421T214115
CREATED:20250113T211436Z
LAST-MODIFIED:20250113T211650Z
UID:70690-1737558000-1737565200@budandritas.com
SUMMARY:Hot Chocolate Pop-Up @ West Town
DESCRIPTION:Join us at Bud & Rita’s West Town to warm up with some hot chocolate!
URL:https://budandritas.com/event/hot-chocolate-pop-up-avondale-2/
LOCATION:Bud & Rita’s – West Town\, 1914 W Chicago Ave\, Chicago\, IL\, 60622\, United States
ATTACH;FMTTYPE=image/png:https://budandritas.com/wp-content/uploads/2025/01/HOT-CHOCOLATE-@-WEST-TOWN.png
END:VEVENT
BEGIN:VEVENT
DTSTART;TZID=America/Chicago:20250122T150000
DTEND;TZID=America/Chicago:20250122T170000
DTSTAMP:20260421T214115
CREATED:20250113T211328Z
LAST-MODIFIED:20250113T211328Z
UID:70688-1737558000-1737565200@budandritas.com
SUMMARY:Hot Chocolate Pop-Up @ Niles
DESCRIPTION:Join us at Bud & Rita’s Niles to warm up with some hot chocolate!
URL:https://budandritas.com/event/hot-chocolate-pop-up-niles/
LOCATION:Bud & Rita’s – Niles\, 5960 W Touhy Ave\, Niles\, IL\, 60714
ATTACH;FMTTYPE=image/png:https://budandritas.com/wp-content/uploads/2025/01/HOT-CHOCOLATE-@-NILES.png
END:VEVENT
BEGIN:VEVENT
DTSTART;TZID=America/Chicago:20250116T110000
DTEND;TZID=America/Chicago:20250116T130000
DTSTAMP:20260421T214115
CREATED:20250113T211203Z
LAST-MODIFIED:20250113T211203Z
UID:70683-1737025200-1737032400@budandritas.com
SUMMARY:Hot Chocolate Pop-Up @ Avondale
DESCRIPTION:Join us at Bud & Rita’s Avondale to warm up with some hot chocolate!
URL:https://budandritas.com/event/hot-chocolate-pop-up-avondale/
LOCATION:Bud & Rita’s – Avondale\, 3425 W Belmont Ave\, Chicago\, IL\, 60618
ATTACH;FMTTYPE=image/png:https://budandritas.com/wp-content/uploads/2025/01/HOT-CHOCOLATE-@-AVONDALE.png
END:VEVENT
BEGIN:VEVENT
DTSTART;TZID=America/Chicago:20241220T153000
DTEND;TZID=America/Chicago:20241220T183000
DTSTAMP:20260421T214115
CREATED:20241217T222343Z
LAST-MODIFIED:20241217T222344Z
UID:63799-1734708600-1734719400@budandritas.com
SUMMARY:Budrista Claus @ Avondale
DESCRIPTION:🎅 Budrista Claus & Buddy the Elf are making a special stop at Bud & Rita’s Avondale—and they can’t wait to meet you and your furry friends! 🐾 \nJoin us this Friday\, 12/20\, for the cutest holiday photo op with Santa and your pet (or just you—no judgment 😉). Plus\, treat yourself to some festive goodies while you’re here! 🎁
URL:https://budandritas.com/event/budrista-claus-avondale/
ATTACH;FMTTYPE=image/png:https://budandritas.com/wp-content/uploads/2024/12/BUDRISTA-CLAUS-@-AVONDALE.png
END:VEVENT
BEGIN:VEVENT
DTSTART;TZID=America/Chicago:20241127T180000
DTEND;TZID=America/Chicago:20241127T220000
DTSTAMP:20260421T214115
CREATED:20241101T203117Z
LAST-MODIFIED:20241101T205429Z
UID:48037-1732730400-1732744800@budandritas.com
SUMMARY:Turkey Daze
DESCRIPTION:Join us for Industry Nights: Turkey Daze – Green Wednesday! Celebrate the Thanksgiving season with two nights of Back-To-Back Budrista Club fun at Homestead on the Roof\, featuring pizza from Roots Pizza\, awesome giveaways\, and the Budrista Bar. Sign up to the Budrista Club to join!
URL:https://budandritas.com/event/turkey-daze-2/
LOCATION:Homestead on the Roof\, 1924 W Chicago Ave\, Chicago\, IL\, 60622
ATTACH;FMTTYPE=image/png:https://budandritas.com/wp-content/uploads/2024/11/TURKEY-DAZE.png
END:VEVENT
BEGIN:VEVENT
DTSTART;TZID=America/Chicago:20241126T180000
DTEND;TZID=America/Chicago:20241126T220000
DTSTAMP:20260421T214115
CREATED:20241101T202856Z
LAST-MODIFIED:20241101T205450Z
UID:48034-1732644000-1732658400@budandritas.com
SUMMARY:Turkey Daze
DESCRIPTION:Join us for Industry Nights: Turkey Daze – Turkey Tuesday! Celebrate the Thanksgiving season with two nights of Back-To-Back Budrista Club fun at Homestead on the Roof\, featuring pizza from Roots Pizza\, awesome giveaways\, and the Budrista Bar. Sign up to the Budrista Club to join!
URL:https://budandritas.com/event/turkey-daze/
LOCATION:Homestead on the Roof\, 1924 W Chicago Ave\, Chicago\, IL\, 60622
ATTACH;FMTTYPE=image/png:https://budandritas.com/wp-content/uploads/2024/11/TURKEY-DAZE.png
END:VEVENT
BEGIN:VEVENT
DTSTART;TZID=America/Chicago:20241024T160000
DTEND;TZID=America/Chicago:20241024T200000
DTSTAMP:20260421T214115
CREATED:20241022T202933Z
LAST-MODIFIED:20241022T202933Z
UID:45632-1729785600-1729800000@budandritas.com
SUMMARY:Glass Blowing @ Avondale
DESCRIPTION:Come check out Otto’s glass blowing from 4-8pm this Thursday! Watch the demonstration then take home your very own one-hitter 💨 or pet tag 🐾
URL:https://budandritas.com/event/glass-blowing-avondale/
LOCATION:Bud & Rita’s – Avondale\, 3425 W Belmont Ave\, Chicago\, IL\, 60618
ATTACH;FMTTYPE=image/png:https://budandritas.com/wp-content/uploads/2024/10/GLASS-BLOWING-@-AVONDALE.png
END:VEVENT
BEGIN:VEVENT
DTSTART;TZID=America/Chicago:20241024T100000
DTEND;TZID=America/Chicago:20241024T140000
DTSTAMP:20260421T214115
CREATED:20241022T203047Z
LAST-MODIFIED:20241022T203047Z
UID:45636-1729764000-1729778400@budandritas.com
SUMMARY:Glass Blowing @ Niles
DESCRIPTION:Come check out Otto’s glass blowing from 10a-2p this Thursday! Watch the demonstration then take home your very own one-hitter 💨 or pet tag 🐾
URL:https://budandritas.com/event/glass-blowing-niles/
LOCATION:Bud & Rita’s – Niles\, 5960 W Touhy Ave\, Niles\, IL\, 60714
ATTACH;FMTTYPE=image/png:https://budandritas.com/wp-content/uploads/2024/10/GLASS-BLOWING-@-NILES.png
END:VEVENT
BEGIN:VEVENT
DTSTART;TZID=America/Chicago:20241019T160000
DTEND;TZID=America/Chicago:20241019T190000
DTSTAMP:20260421T214115
CREATED:20241010T155443Z
LAST-MODIFIED:20241010T155443Z
UID:43364-1729353600-1729364400@budandritas.com
SUMMARY:Legacy Pop-Up @ Avondale
DESCRIPTION:Learn more about your favorite products from Legacy! \n\n 
URL:https://budandritas.com/event/legacy-pop-up-avondale/
LOCATION:Bud & Rita’s – Avondale\, 3425 W Belmont Ave\, Chicago\, IL\, 60618
ATTACH;FMTTYPE=image/png:https://budandritas.com/wp-content/uploads/2024/10/LEGACY-@-AVONDALE.png
END:VEVENT
BEGIN:VEVENT
DTSTART;TZID=America/Chicago:20241005T110000
DTEND;TZID=America/Chicago:20241005T170000
DTSTAMP:20260421T214115
CREATED:20240917T195159Z
LAST-MODIFIED:20240919T152857Z
UID:40718-1728126000-1728147600@budandritas.com
SUMMARY:Vintage Bazaar @ Avondale
DESCRIPTION:Bud & Rita’s is getting retro with it at the B&R Bazaar! We’re partnering with Bunny and Rita’s Vintage to make your canna-shopping a little extra special with some awesome antique vendors.\n\n\n\nCome by our Avondale shop on this Saturday for our pop-up vintage market  –  complete with clothing\, jewelry\, vinyl\, and other old-school trinkets!
URL:https://budandritas.com/event/vintage-bazaar-avondale/
LOCATION:Budrista Club\, 3425 W Belmont Ave.\, Chicago\, IL\, 60618
ATTACH;FMTTYPE=image/png:https://budandritas.com/wp-content/uploads/2024/09/VINTAGE-BAZAAR-@-AVONDALE.png
END:VEVENT
BEGIN:VEVENT
DTSTART;TZID=America/Chicago:20240928T110000
DTEND;TZID=America/Chicago:20240928T130000
DTSTAMP:20260421T214115
CREATED:20240924T204351Z
LAST-MODIFIED:20240924T204351Z
UID:41648-1727521200-1727528400@budandritas.com
SUMMARY:1937 Pop-Up @ Niles
DESCRIPTION:Learn more about your favorite products from The 1937 Group!
URL:https://budandritas.com/event/1937-pop-up-niles/
LOCATION:Bud & Rita’s – Niles\, 5960 W Touhy Ave\, Niles\, IL\, 60714
ATTACH;FMTTYPE=image/png:https://budandritas.com/wp-content/uploads/2024/09/1937-@-NILES.png
END:VEVENT
BEGIN:VEVENT
DTSTART;TZID=America/Chicago:20240928T100000
DTEND;TZID=America/Chicago:20240928T130000
DTSTAMP:20260421T214115
CREATED:20240924T204146Z
LAST-MODIFIED:20240924T204146Z
UID:41646-1727517600-1727528400@budandritas.com
SUMMARY:IC Collective @ Avondale
DESCRIPTION:Learn more about your favorite products from IC Collective!
URL:https://budandritas.com/event/ic-collective-avondale/
LOCATION:Bud & Rita’s – Avondale\, 3425 W Belmont Ave\, Chicago\, IL\, 60618
ATTACH;FMTTYPE=image/png:https://budandritas.com/wp-content/uploads/2024/09/IC-COLLECTIVE-@-AVONDALE.png
END:VEVENT
BEGIN:VEVENT
DTSTART;TZID=America/Chicago:20240927T150000
DTEND;TZID=America/Chicago:20240927T180000
DTSTAMP:20260421T214115
CREATED:20240924T204046Z
LAST-MODIFIED:20240924T204046Z
UID:41644-1727449200-1727460000@budandritas.com
SUMMARY:IC Collective Pop-Up @ Niles
DESCRIPTION:Learn more about your favorite products from IC Collective!
URL:https://budandritas.com/event/ic-collective-pop-up-niles/
LOCATION:Bud & Rita’s – Niles\, 5960 W Touhy Ave\, Niles\, IL\, 60714
ATTACH;FMTTYPE=image/png:https://budandritas.com/wp-content/uploads/2024/09/IC-COLLECTIVE-@-NILES.png
END:VEVENT
BEGIN:VEVENT
DTSTART;TZID=America/Chicago:20240927T120000
DTEND;TZID=America/Chicago:20240927T150000
DTSTAMP:20260421T214115
CREATED:20240924T203913Z
LAST-MODIFIED:20240924T203913Z
UID:41642-1727438400-1727449200@budandritas.com
SUMMARY:Legacy Pop-Up @ Niles
DESCRIPTION:Learn more about your favorite products from Legacy! \n\n 
URL:https://budandritas.com/event/legacy-pop-up-niles/
LOCATION:Bud & Rita’s – Niles\, 5960 W Touhy Ave\, Niles\, IL\, 60714
ATTACH;FMTTYPE=image/png:https://budandritas.com/wp-content/uploads/2024/09/LEGACY-@-NILES.png
END:VEVENT
BEGIN:VEVENT
DTSTART;TZID=America/Chicago:20240926T160000
DTEND;TZID=America/Chicago:20240926T190000
DTSTAMP:20260421T214115
CREATED:20240917T205507Z
LAST-MODIFIED:20240917T205533Z
UID:40778-1727366400-1727377200@budandritas.com
SUMMARY:Aeriz Pop-Up @ Avondale
DESCRIPTION:Learn more about your favorite products from Aeriz! \n\n 
URL:https://budandritas.com/event/aeriz-pop-up-avondale/
LOCATION:Bud & Rita’s – Avondale\, 3425 W Belmont Ave\, Chicago\, IL\, 60618
ATTACH;FMTTYPE=image/png:https://budandritas.com/wp-content/uploads/2024/09/AERIZ@-AVONDALE.png
END:VEVENT
END:VCALENDAR