BEGIN:VCALENDAR
VERSION:2.0
PRODID:-//Bud &amp; Rita&#039;s - ECPv6.15.17.1//NONSGML v1.0//EN
CALSCALE:GREGORIAN
METHOD:PUBLISH
X-WR-CALNAME:Bud &amp; Rita&#039;s
X-ORIGINAL-URL:https://budandritas.com
X-WR-CALDESC:Events for Bud &amp; Rita&#039;s
REFRESH-INTERVAL;VALUE=DURATION:PT1H
X-Robots-Tag:noindex
X-PUBLISHED-TTL:PT1H
BEGIN:VTIMEZONE
TZID:America/Chicago
BEGIN:DAYLIGHT
TZOFFSETFROM:-0600
TZOFFSETTO:-0500
TZNAME:CDT
DTSTART:20230312T080000
END:DAYLIGHT
BEGIN:STANDARD
TZOFFSETFROM:-0500
TZOFFSETTO:-0600
TZNAME:CST
DTSTART:20231105T070000
END:STANDARD
BEGIN:DAYLIGHT
TZOFFSETFROM:-0600
TZOFFSETTO:-0500
TZNAME:CDT
DTSTART:20240310T080000
END:DAYLIGHT
BEGIN:STANDARD
TZOFFSETFROM:-0500
TZOFFSETTO:-0600
TZNAME:CST
DTSTART:20241103T070000
END:STANDARD
BEGIN:DAYLIGHT
TZOFFSETFROM:-0600
TZOFFSETTO:-0500
TZNAME:CDT
DTSTART:20250309T080000
END:DAYLIGHT
BEGIN:STANDARD
TZOFFSETFROM:-0500
TZOFFSETTO:-0600
TZNAME:CST
DTSTART:20251102T070000
END:STANDARD
END:VTIMEZONE
BEGIN:VEVENT
DTSTART;TZID=America/Chicago:20240924T190000
DTEND;TZID=America/Chicago:20240924T220000
DTSTAMP:20260422T165637
CREATED:20240725T182955Z
LAST-MODIFIED:20240725T183338Z
UID:34778-1727204400-1727215200@budandritas.com
SUMMARY:Industry Nights @ Homestead on the Roof Featuring Kaleidosmokes
DESCRIPTION:Work in the hospitality industry? Enjoy free eats\, dank deals\, music & swag every Tuesday at Homestead on the Roof! Every week we’ll showcase a new product or brand: \n  \nJuly 30: SLIMS\nAugust 6: JOOS 1G Disposable Pen\nAugust 13: Twenty Twenty 1G Pre-Roll\nAugust 20: Half Acre Second Setting\nAugust 27: NGW Flower\nSeptember 3: JOOS Vapes\nSeptember 10: NGW Concentrates\nSeptember 17: Graffiti Flower\nSeptember 24: Kaleidosmokes \n  \nThis week: Kaleidosmokes
URL:https://budandritas.com/event/9-24-industry-nights-homestead-on-the-roof/
LOCATION:Homestead on the Roof\, 1924 W Chicago Ave\, Chicago\, IL\, 60622
ATTACH;FMTTYPE=image/png:https://budandritas.com/wp-content/uploads/2024/07/INDUSTRY-NIGHTS-1.png
END:VEVENT
BEGIN:VEVENT
DTSTART;TZID=America/Chicago:20240924T053000
DTEND;TZID=America/Chicago:20240924T193000
DTSTAMP:20260422T165637
CREATED:20240924T203705Z
LAST-MODIFIED:20240924T203705Z
UID:41639-1727155800-1727206200@budandritas.com
SUMMARY:Airo Pup-Up @ Avondale
DESCRIPTION:Learn more about your favorite products from Airo!
URL:https://budandritas.com/event/airo-pup-up-avondale/
LOCATION:Bud & Rita’s – Avondale\, 3425 W Belmont Ave\, Chicago\, IL\, 60618
ATTACH;FMTTYPE=image/png:https://budandritas.com/wp-content/uploads/2024/09/AIRO-@-AVONDALE.png
END:VEVENT
BEGIN:VEVENT
DTSTART;TZID=America/Chicago:20240923T090000
DTEND;TZID=America/Chicago:20240929T210000
DTSTAMP:20260422T165637
CREATED:20240919T185524Z
LAST-MODIFIED:20240919T185524Z
UID:40821-1727082000-1727643600@budandritas.com
SUMMARY:Guest Appreciation Week
DESCRIPTION:9/23 | Musical Monday\n\nWear your favorite band or concert t-shirt and receive a $1 pre-roll! \n\n9/24 | Tailin’ Tuesday\n\nBring your furry pet in costume (or not that’s ok too!) to add to our polaroid wall. Pet themed accessories on sale. Frisbee & dog bowl combo for $15. \n\n\n9/25 | Wellness Wednesday\n\nSwing by our Avondale location for yoga by The Groove Chicago. Niles will have a build your own bouquet station. Sale on products like Unwind Topicals\, Margo’s Herbal Mints\, etc. \n\n\n9/26 | Tie-Dye Thursday\n\nWe will have tie-dye stations from 4-6 pm at each location. Enjoy a Bud & Rita’s sale on all t-shirts for just $15. \n\n\n9/27 | Fine Art Friday\n\nJoin us for the fine art activities of DIY flower pots at Niles and DIY roach clips at Avondale. We’ll have some snacks & drinks for you to get cozy! \n\n\n9/28 | Synergy Saturday\n\nWeekend Bonanza will be in full effect! We’ll have brand activations from cultivators. Get educated & grab some swag. Avondale will even have joint rolling education by our Budristas from 11-2 and 5-7. \n\n\n9/29 | Sunday Funday\n\nShow your team spirit by wearing your favorite team jersey. Receive 30% off all edibles in exchange!
URL:https://budandritas.com/event/guest-appreciation-week/
LOCATION:IL
ATTACH;FMTTYPE=image/png:https://budandritas.com/wp-content/uploads/2024/09/BUD-RITAS-GUEST-APPRECIATION-WEEK.png
END:VEVENT
BEGIN:VEVENT
DTSTART;TZID=America/Chicago:20240919T170000
DTEND;TZID=America/Chicago:20240919T200000
DTSTAMP:20260422T165637
CREATED:20240819T190133Z
LAST-MODIFIED:20240917T205617Z
UID:36712-1726765200-1726776000@budandritas.com
SUMMARY:BUDRISTA Club Happy Hour @ Avondale with OURS Community
DESCRIPTION:Come meet the amazing minds behind Community Infused Mushroom Chocolate Bars — join us for an evening of free snacks\, giveaways\, and great company 🍄✨
URL:https://budandritas.com/event/budrista-club-happy-hour-avondale-with-ours-community/
LOCATION:Budrista Club\, 3425 W Belmont Ave.\, Chicago\, IL\, 60618
ATTACH;FMTTYPE=image/png:https://budandritas.com/wp-content/uploads/2024/08/OURS-@-AVONDALE-1.png
END:VEVENT
BEGIN:VEVENT
DTSTART;TZID=America/Chicago:20240918T160000
DTEND;TZID=America/Chicago:20240918T190000
DTSTAMP:20260422T165637
CREATED:20240819T185641Z
LAST-MODIFIED:20240819T185733Z
UID:36710-1726675200-1726686000@budandritas.com
SUMMARY:Funnies Gummies Pop-Up @ Niles
DESCRIPTION:Learn more about your favorite products from The Funnies Gummies! \n 
URL:https://budandritas.com/event/9-18-funnies-gummies-pop-up-niles/
LOCATION:Bud & Rita’s – Niles\, 5960 W Touhy Ave\, Niles\, IL\, 60714
ATTACH;FMTTYPE=image/png:https://budandritas.com/wp-content/uploads/2024/07/FUNNIES-@-NILES.png
END:VEVENT
BEGIN:VEVENT
DTSTART;TZID=America/Chicago:20240917T190000
DTEND;TZID=America/Chicago:20240917T220000
DTSTAMP:20260422T165637
CREATED:20240725T182741Z
LAST-MODIFIED:20240725T183312Z
UID:34776-1726599600-1726610400@budandritas.com
SUMMARY:Industry Nights @ Homestead on the Roof Featuring Graffiti Flower
DESCRIPTION:Work in the hospitality industry? Enjoy free eats\, dank deals\, music & swag every Tuesday at Homestead on the Roof! Every week we’ll showcase a new product or brand: \n  \nJuly 30: SLIMS\nAugust 6: JOOS 1G Disposable Pen\nAugust 13: Twenty Twenty 1G Pre-Roll\nAugust 20: Half Acre Second Setting\nAugust 27: NGW Flower\nSeptember 3: JOOS Vapes\nSeptember 10: NGW Concentrates\nSeptember 17: Graffiti Flower\nSeptember 24: Kaleidosmokes \n  \nThis week: Graffiti Flower
URL:https://budandritas.com/event/9-17-industry-nights-homestead-on-the-roof/
LOCATION:Homestead on the Roof\, 1924 W Chicago Ave\, Chicago\, IL\, 60622
ATTACH;FMTTYPE=image/png:https://budandritas.com/wp-content/uploads/2024/07/INDUSTRY-NIGHTS-1.png
END:VEVENT
BEGIN:VEVENT
DTSTART;TZID=America/Chicago:20240915T110000
DTEND;TZID=America/Chicago:20240915T140000
DTSTAMP:20260422T165637
CREATED:20240828T182323Z
LAST-MODIFIED:20240906T203441Z
UID:37500-1726398000-1726408800@budandritas.com
SUMMARY:Self Care Sunday: Back to School Edition @ Avondale
DESCRIPTION:Need a little extra self-care this time of year? We know it’s a hectic season – especially for parents! We’ve got you covered – come to Bud & Rita’s Avondale next Sunday to check out some amazing local self-care vendors. Learn about meditative mantras with The Groove Yoga Studio\, pick up some sustainable candles from Chicago Wick Stop\, sample mocktails with Chuchaqui Cocktails\, and more. Don’t forget to enter our free self-care raffle for some amazing prizes from local businesses!
URL:https://budandritas.com/event/self-care-sunday-back-to-school-edition/
LOCATION:Bud & Rita’s – Avondale\, 3425 W Belmont Ave\, Chicago\, IL\, 60618
ATTACH;FMTTYPE=image/png:https://budandritas.com/wp-content/uploads/2024/08/BACK-TO-SCHOOL-SELF-CARE-SUNDAY.png
END:VEVENT
BEGIN:VEVENT
DTSTART;TZID=America/Chicago:20240914T183000
DTEND;TZID=America/Chicago:20240914T220000
DTSTAMP:20260422T165637
CREATED:20240828T181921Z
LAST-MODIFIED:20240906T203237Z
UID:37497-1726338600-1726351200@budandritas.com
SUMMARY:Drive In Movie Night @ Niles
DESCRIPTION:Showtime starts at 7:00 pm\nThis event is free to join. Must be 21+ to participate. \n\nFree popcorn available to all.\nFree tacos available to first 50 customers.\nGiveaways are free to participate in.⚡\n\nLooking for a fun & retro (& free) Saturday evening with friends? Bud & Rita’s Niles is hosting a Drive-In Movie Viewing of Grease (1978)\, complete with snacks\, Granados Taco Truck\, and giveaways. Pop your trunk open\, grab some grub and win some prizes before enjoying Grease the old-fashioned way – on the big screen!
URL:https://budandritas.com/event/drive-in-movie-night-niles/
LOCATION:Bud & Rita’s – Niles\, 5960 W Touhy Ave\, Niles\, IL\, 60714
ATTACH;FMTTYPE=image/png:https://budandritas.com/wp-content/uploads/2024/08/DRIVE-IN-MOVIE-NIGHT-@-NILES-GREASE.png
END:VEVENT
BEGIN:VEVENT
DTSTART;TZID=America/Chicago:20240911T040000
DTEND;TZID=America/Chicago:20240911T190000
DTSTAMP:20260422T165637
CREATED:20240819T185434Z
LAST-MODIFIED:20240819T185434Z
UID:36708-1726027200-1726081200@budandritas.com
SUMMARY:Twenty Twenty Pop-Up @ Avondale
DESCRIPTION:Learn more about your favorite products from Twenty Twenty!
URL:https://budandritas.com/event/twenty-twenty-pop-up-avondale-2/
LOCATION:Bud & Rita’s – Avondale\, 3425 W Belmont Ave\, Chicago\, IL\, 60618
ATTACH;FMTTYPE=image/png:https://budandritas.com/wp-content/uploads/2024/08/TWENTY-TWENTY-@-AVONDALE.png
END:VEVENT
BEGIN:VEVENT
DTSTART;TZID=America/Chicago:20240910T190000
DTEND;TZID=America/Chicago:20240910T220000
DTSTAMP:20260422T165637
CREATED:20240725T182019Z
LAST-MODIFIED:20240725T183256Z
UID:34768-1725994800-1726005600@budandritas.com
SUMMARY:Industry Nights @ Homestead on the Roof Featuring NGW Concentrates
DESCRIPTION:Work in the hospitality industry? Enjoy free eats\, dank deals\, music & swag every Tuesday at Homestead on the Roof! Every week we’ll showcase a new product or brand: \n  \nJuly 30: SLIMS\nAugust 6: JOOS 1G Disposable Pen\nAugust 13: Twenty Twenty 1G Pre-Roll\nAugust 20: Half Acre Second Setting\nAugust 27: NGW Flower\nSeptember 3: JOOS Vapes\nSeptember 10: NGW Concentrates\nSeptember 17: Graffiti Flower\nSeptember 24: Kaleidosmokes \n  \nThis week: NGW Concentrates
URL:https://budandritas.com/event/9-10-industry-nights-homestead-on-the-roof/
LOCATION:Homestead on the Roof\, 1924 W Chicago Ave\, Chicago\, IL\, 60622
ATTACH;FMTTYPE=image/png:https://budandritas.com/wp-content/uploads/2024/07/INDUSTRY-NIGHTS-1.png
END:VEVENT
BEGIN:VEVENT
DTSTART;TZID=America/Chicago:20240906T123000
DTEND;TZID=America/Chicago:20240906T160000
DTSTAMP:20260422T165637
CREATED:20240819T185258Z
LAST-MODIFIED:20240829T191926Z
UID:36706-1725625800-1725638400@budandritas.com
SUMMARY:Margo's Mints Pop-Up @ Avondale
DESCRIPTION:Learn more about your favorite products from Margo’s Mints!
URL:https://budandritas.com/event/9-6-yubalachia-pop-up-avondale/
LOCATION:Bud & Rita’s – Avondale\, 3425 W Belmont Ave\, Chicago\, IL\, 60618
ATTACH;FMTTYPE=image/png:https://budandritas.com/wp-content/uploads/2024/07/MARGOS-MINTS-@-AVONDALE.png
END:VEVENT
BEGIN:VEVENT
DTSTART;TZID=America/Chicago:20240827T190000
DTEND;TZID=America/Chicago:20240827T220000
DTSTAMP:20260422T165637
CREATED:20240725T181555Z
LAST-MODIFIED:20240725T183628Z
UID:34764-1724785200-1724796000@budandritas.com
SUMMARY:Industry Nights @ Homestead on the Roof Featuring NGW Flower
DESCRIPTION:Work in the hospitality industry? Enjoy free eats\, dank deals\, music & swag every Tuesday at Homestead on the Roof! Every week we’ll showcase a new product or brand: \n  \nJuly 30: SLIMS\nAugust 6: JOOS 1G Disposable Pen\nAugust 13: Twenty Twenty 1G Pre-Roll\nAugust 20: Half Acre Second Setting\nAugust 27: NGW Flower\nSeptember 3: JOOS Vapes\nSeptember 10: NGW Concentrates\nSeptember 17: Graffiti Flower\nSeptember 24: Kaleidosmokes \n  \nThis week: NGW Flower
URL:https://budandritas.com/event/8-27-industry-nights-homestead-on-the-roof/
LOCATION:Homestead on the Roof\, 1924 W Chicago Ave\, Chicago\, IL\, 60622
ATTACH;FMTTYPE=image/png:https://budandritas.com/wp-content/uploads/2024/07/INDUSTRY-NIGHTS-1.png
END:VEVENT
BEGIN:VEVENT
DTSTART;TZID=America/Chicago:20240827T170000
DTEND;TZID=America/Chicago:20240827T200000
DTSTAMP:20260422T165637
CREATED:20240822T205347Z
LAST-MODIFIED:20240822T205347Z
UID:37012-1724778000-1724788800@budandritas.com
SUMMARY:Timeless Pop-Up @ Avondale
DESCRIPTION:Learn more about your favorite products from Timeless Vapes!
URL:https://budandritas.com/event/timeless-pop-up-avondale/
LOCATION:Bud & Rita’s – Avondale\, 3425 W Belmont Ave\, Chicago\, IL\, 60618
ATTACH;FMTTYPE=image/png:https://budandritas.com/wp-content/uploads/2024/08/TIMELESS-@-AVONDALE.png
END:VEVENT
BEGIN:VEVENT
DTSTART;TZID=America/Chicago:20240827T150000
DTEND;TZID=America/Chicago:20240827T170000
DTSTAMP:20260422T165637
CREATED:20240820T194810Z
LAST-MODIFIED:20240820T194810Z
UID:36778-1724770800-1724778000@budandritas.com
SUMMARY:Superflux Pop-Up @ Avondale
DESCRIPTION:Learn more about your favorite products from Superflux!
URL:https://budandritas.com/event/superflux-pop-up-avondale/
LOCATION:Bud & Rita’s – Avondale\, 3425 W Belmont Ave\, Chicago\, IL\, 60618
ATTACH;FMTTYPE=image/png:https://budandritas.com/wp-content/uploads/2024/08/SUPERFLUX-@-AVONDALE.png
END:VEVENT
BEGIN:VEVENT
DTSTART;TZID=America/Chicago:20240825T120000
DTEND;TZID=America/Chicago:20240825T170000
DTSTAMP:20260422T165637
CREATED:20240822T204830Z
LAST-MODIFIED:20240822T204858Z
UID:37006-1724587200-1724605200@budandritas.com
SUMMARY:Bud & Rita's @ AGA Agriculture and Gardening Fair
DESCRIPTION:Come say hi to us at the Avondale Agriculture and Gardening Fair hosted by the Avondale Gardening Alliance this weekend! \n\n\nTour Avondale gardens and learn about all things urban agriculture and sustainability. From noon to 5 pm on Sunday\, August 25\, visit a number of yards and other locations in a walkable area of East Avondale. Pick up a paper map from the welcome booth at Concordia Place at 3300 N Whipple that day.
URL:https://budandritas.com/event/bud-ritas-aga-agriculture-and-gardening-fair/
LOCATION:3300 N Whipple St.\, 3300 N Whipple St.\, Chicago\, IL\, 60618
ATTACH;FMTTYPE=image/png:https://budandritas.com/wp-content/uploads/2024/08/BUD-RITAS-@-AGA-AGRICULTURAL-GARDENING-FAIR.png
END:VEVENT
BEGIN:VEVENT
DTSTART;TZID=America/Chicago:20240824T120000
DTEND;TZID=America/Chicago:20240824T150000
DTSTAMP:20260422T165637
CREATED:20240806T162453Z
LAST-MODIFIED:20240807T133039Z
UID:35527-1724500800-1724511600@budandritas.com
SUMMARY:Chuchaqui Cocktails @ Niles
DESCRIPTION:We’re so excited to host a summer ☀️mocktail series brought to you by the amazing @chuchaquicocktails ! (pronounced: choo-cha-key)🍹 \n  \nThis Saturday at Bud & Rita’s Niles\, you’ll find the tastiest mocktails that you can take with you to help you stay refreshed and hydrated💦 this summer
URL:https://budandritas.com/event/chuchaqui-cocktails-niles/
LOCATION:Bud & Rita’s – Niles\, 5960 W Touhy Ave\, Niles\, IL\, 60714
ATTACH;FMTTYPE=image/png:https://budandritas.com/wp-content/uploads/2024/07/CHUCHAQUI-COCKTAILS-@-NILES.png
END:VEVENT
BEGIN:VEVENT
DTSTART;TZID=America/Chicago:20240823T123000
DTEND;TZID=America/Chicago:20240823T160000
DTSTAMP:20260422T165637
CREATED:20240806T153840Z
LAST-MODIFIED:20240813T145915Z
UID:35514-1724416200-1724428800@budandritas.com
SUMMARY:Yubalachia Pop-Up @ Avondale
DESCRIPTION:Learn more about your favorite products from Yubalachia!
URL:https://budandritas.com/event/yubalachia-pop-up-avondale/
LOCATION:Bud & Rita’s – Avondale\, 3425 W Belmont Ave\, Chicago\, IL\, 60618
ATTACH;FMTTYPE=image/png:https://budandritas.com/wp-content/uploads/2024/08/YUBALACHIA-@-AVONDALE.png
END:VEVENT
BEGIN:VEVENT
DTSTART;TZID=America/Chicago:20240821T170000
DTEND;TZID=America/Chicago:20240821T200000
DTSTAMP:20260422T165637
CREATED:20240819T184839Z
LAST-MODIFIED:20240819T184839Z
UID:36699-1724259600-1724270400@budandritas.com
SUMMARY:Bud & Rita's @ Niles Cruise Night
DESCRIPTION:Come say hi to us at Niles Cruise Nights this Wednesday!
URL:https://budandritas.com/event/bud-ritas-niles-cruise-night/
LOCATION:Golf Mill Park\, 9101 N. Greenwood Avenue\, Niles\, IL\, 60714
ATTACH;FMTTYPE=image/png:https://budandritas.com/wp-content/uploads/2024/08/BUD-RITAS-@-NILES-CRUISE-NIGHTS.png
END:VEVENT
BEGIN:VEVENT
DTSTART;TZID=America/Chicago:20240821T160000
DTEND;TZID=America/Chicago:20240821T190000
DTSTAMP:20260422T165637
CREATED:20240807T133249Z
LAST-MODIFIED:20240807T133249Z
UID:35531-1724256000-1724266800@budandritas.com
SUMMARY:Funnies Gummies Pop-Up @ Niles
DESCRIPTION:Learn more about your favorite products from The Funnies Gummies! \n 
URL:https://budandritas.com/event/funnies-gummies-pop-up-niles-2/
LOCATION:Bud & Rita’s – Niles\, 5960 W Touhy Ave\, Niles\, IL\, 60714
ATTACH;FMTTYPE=image/png:https://budandritas.com/wp-content/uploads/2024/07/FUNNIES-@-NILES.png
END:VEVENT
BEGIN:VEVENT
DTSTART;TZID=America/Chicago:20240820T190000
DTEND;TZID=America/Chicago:20240820T220000
DTSTAMP:20260422T165637
CREATED:20240725T181033Z
LAST-MODIFIED:20240725T183455Z
UID:34756-1724180400-1724191200@budandritas.com
SUMMARY:Industry Nights @ Homestead on the Roof Featuring Half Acre Second Setting
DESCRIPTION:Work in the hospitality industry? Enjoy free eats\, dank deals\, music & swag every Tuesday at Homestead on the Roof! Every week we’ll showcase a new product or brand: \n  \nJuly 30: SLIMS\nAugust 6: JOOS 1G Disposable Pen\nAugust 13: Twenty Twenty 1G Pre-Roll\nAugust 20: Half Acre Second Setting\nAugust 27: NGW Flower\nSeptember 3: JOOS Vapes\nSeptember 10: NGW Concentrates\nSeptember 17: Graffiti Flower\nSeptember 24: Kaleidosmokes \n  \nThis week: Half Acre Second Setting
URL:https://budandritas.com/event/8-20-industry-nights-homestead-on-the-roof/
LOCATION:Homestead on the Roof\, 1924 W Chicago Ave\, Chicago\, IL\, 60622
ATTACH;FMTTYPE=image/png:https://budandritas.com/wp-content/uploads/2024/07/INDUSTRY-NIGHTS-1.png
END:VEVENT
BEGIN:VEVENT
DTSTART;TZID=America/Chicago:20240818T080000
DTEND;TZID=America/Chicago:20240818T140000
DTSTAMP:20260422T165637
CREATED:20240806T161927Z
LAST-MODIFIED:20240806T161927Z
UID:35523-1723968000-1723989600@budandritas.com
SUMMARY:Bud & Rita's @ Roscoe Village Farmers Market
DESCRIPTION:Come say hi to us at the Roscoe Village Farmers Market this Sunday!
URL:https://budandritas.com/event/bud-ritas-roscoe-village-farmers-market/
LOCATION:Roscoe Village Farmers Market\, Hamlin Park (3035 N Hoyne Ave)\, Chicago\, IL
ATTACH;FMTTYPE=image/png:https://budandritas.com/wp-content/uploads/2024/08/BUD-RITAS-@-ROSCOE-VILLAGE-FARMERS-MARKET.png
END:VEVENT
BEGIN:VEVENT
DTSTART;TZID=America/Chicago:20240817T120000
DTEND;TZID=America/Chicago:20240817T150000
DTSTAMP:20260422T165637
CREATED:20240806T154147Z
LAST-MODIFIED:20240806T154147Z
UID:35517-1723896000-1723906800@budandritas.com
SUMMARY:Chuchaqui Cocktails @ Avondale
DESCRIPTION:We’re so excited to host a summer ☀️mocktail series brought to you by the amazing @chuchaquicocktails ! (pronounced: choo-cha-key)🍹 \nThis Saturday at Bud & Rita’s Avondale\, you’ll find the tastiest mocktails that you can take with you to help you stay refreshed and hydrated💦 this summer
URL:https://budandritas.com/event/chuchaqui-cocktails-avondale/
LOCATION:Bud & Rita’s – Avondale\, 3425 W Belmont Ave\, Chicago\, IL\, 60618
ATTACH;FMTTYPE=image/png:https://budandritas.com/wp-content/uploads/2024/08/CHUCHAQUI-COCKTAILS-@-AVONDALE.png
END:VEVENT
BEGIN:VEVENT
DTSTART;TZID=America/Chicago:20240814T160000
DTEND;TZID=America/Chicago:20240814T190000
DTSTAMP:20260422T165637
CREATED:20240806T153347Z
LAST-MODIFIED:20240806T154246Z
UID:35508-1723651200-1723662000@budandritas.com
SUMMARY:Twenty Twenty Pop-Up @ Avondale
DESCRIPTION:Learn more about your favorite products from Twenty Twenty!
URL:https://budandritas.com/event/twenty-twenty-pop-up-avondale/
LOCATION:Bud & Rita’s – Avondale\, 3425 W Belmont Ave\, Chicago\, IL\, 60618
ATTACH;FMTTYPE=image/png:https://budandritas.com/wp-content/uploads/2024/08/TWENTY-TWENTY-@-AVONDALE.png
END:VEVENT
BEGIN:VEVENT
DTSTART;TZID=America/Chicago:20240813T190000
DTEND;TZID=America/Chicago:20240813T220000
DTSTAMP:20260422T165637
CREATED:20240725T175823Z
LAST-MODIFIED:20240725T183434Z
UID:34750-1723575600-1723586400@budandritas.com
SUMMARY:Industry Nights @ Homestead on the Roof Featuring Twenty Twenty 1G Pre-Roll
DESCRIPTION:Work in the hospitality industry? Enjoy free eats\, dank deals\, music & swag every Tuesday at Homestead on the Roof! Every week we’ll showcase a new product or brand: \n  \nJuly 30: SLIMS\nAugust 6: JOOS 1G Disposable Pen\nAugust 13: Twenty Twenty 1G Pre-Roll\nAugust 20: Half Acre Second Setting\nAugust 27: NGW Flower\nSeptember 3: JOOS Vapes\nSeptember 10: NGW Concentrates\nSeptember 17: Graffiti Flower\nSeptember 24: Kaleidosmokes \n  \nThis week: Twenty Twenty 1G Pre-Roll
URL:https://budandritas.com/event/8-13-industry-nights-homestead-on-the-roof/
LOCATION:Homestead on the Roof\, 1924 W Chicago Ave\, Chicago\, IL\, 60622
ATTACH;FMTTYPE=image/png:https://budandritas.com/wp-content/uploads/2024/07/INDUSTRY-NIGHTS-1.png
END:VEVENT
BEGIN:VEVENT
DTSTART;TZID=America/Chicago:20240808T190000
DTEND;TZID=America/Chicago:20240808T220000
DTSTAMP:20260422T165637
CREATED:20240802T151622Z
LAST-MODIFIED:20240802T151622Z
UID:35455-1723143600-1723154400@budandritas.com
SUMMARY:Summer Blaze
DESCRIPTION:Let’s blaze under the sun 🔥from 7-10pm @goodtogoja who will be serving up some fire food and a rooftop for us to get down to the amazing @dj_papa_g soulful reggae beats 🎶🌟 \nEnjoy the Budrista Bar\, good eats\, good beats & good vibes 😎
URL:https://budandritas.com/event/summer-blaze/
LOCATION:Good to Go\, 711 Howard St.\, Evanston\, IL\, 60602
ATTACH;FMTTYPE=image/png:https://budandritas.com/wp-content/uploads/2024/08/summer-blaze.png
END:VEVENT
BEGIN:VEVENT
DTSTART;TZID=America/Chicago:20240807T160000
DTEND;TZID=America/Chicago:20240807T190000
DTSTAMP:20260422T165637
CREATED:20240806T152803Z
LAST-MODIFIED:20240819T185727Z
UID:35505-1723046400-1723057200@budandritas.com
SUMMARY:Funnies Gummies Pop-Up @ Avondale
DESCRIPTION:Learn more about your favorite products from The Funnies Gummies! \n 
URL:https://budandritas.com/event/funnies-gummies-pop-up-avondale/
LOCATION:Bud & Rita’s – Avondale\, 3425 W Belmont Ave\, Chicago\, IL\, 60618
ATTACH;FMTTYPE=image/png:https://budandritas.com/wp-content/uploads/2024/07/FUNNIES-@-NILES.png
END:VEVENT
BEGIN:VEVENT
DTSTART;TZID=America/Chicago:20240806T190000
DTEND;TZID=America/Chicago:20240806T220000
DTSTAMP:20260422T165637
CREATED:20240725T175115Z
LAST-MODIFIED:20240725T183406Z
UID:34748-1722970800-1722981600@budandritas.com
SUMMARY:Industry Nights @ Homestead on the Roof Featuring JOOS 1G Disposable Pen
DESCRIPTION:Work in the hospitality industry? Enjoy free eats\, dank deals\, music & swag every Tuesday at Homestead on the Roof! Every week we’ll showcase a new product or brand: \n  \nJuly 30: SLIMS\nAugust 6: JOOS 1G Disposable Pen\nAugust 13: Twenty Twenty 1G Pre-Roll\nAugust 20: Half Acre Second Setting\nAugust 27: NGW Flower\nSeptember 3: JOOS Vapes\nSeptember 10: NGW Concentrates\nSeptember 17: Graffiti Flower\nSeptember 24: Kaleidosmokes \n  \nThis week: JOOS 1G Disposable Pen
URL:https://budandritas.com/event/8-6-industry-nights-homestead-on-the-roof/
LOCATION:Homestead on the Roof\, 1924 W Chicago Ave\, Chicago\, IL\, 60622
ATTACH;FMTTYPE=image/png:https://budandritas.com/wp-content/uploads/2024/07/INDUSTRY-NIGHTS-1.png
END:VEVENT
BEGIN:VEVENT
DTSTART;TZID=America/Chicago:20240730T190000
DTEND;TZID=America/Chicago:20240730T220000
DTSTAMP:20260422T165637
CREATED:20240725T174459Z
LAST-MODIFIED:20240725T182453Z
UID:34731-1722366000-1722376800@budandritas.com
SUMMARY:Industry Nights @ Homestead on the Roof Featuring SLIMS
DESCRIPTION:Work in the hospitality industry? Enjoy free eats\, dank deals\, music & swag every Tuesday at Homestead on the Roof! Every week we’ll showcase a new product or brand: \nJuly 30: SLIMS\nAugust 6: JOOS 1G Disposable Pen\nAugust 13: Twenty Twenty 1G Pre-Roll\nAugust 20: Half Acre Second Setting\nAugust 27: NGW Flower\nSeptember 3: JOOS Vapes\nSeptember 10: NGW Concentrates\nSeptember 17: Graffiti Flower\nSeptember 24: Kaleidosmokes \n  \nThis week: SLIMS
URL:https://budandritas.com/event/7-30-industry-nights-homestead-on-the-roof/
LOCATION:Homestead on the Roof\, 1924 W Chicago Ave\, Chicago\, IL\, 60622
ATTACH;FMTTYPE=image/png:https://budandritas.com/wp-content/uploads/2024/07/INDUSTRY-NIGHTS-1.png
END:VEVENT
BEGIN:VEVENT
DTSTART;TZID=America/Chicago:20240727T180000
DTEND;TZID=America/Chicago:20240727T210000
DTSTAMP:20260422T165637
CREATED:20240710T204106Z
LAST-MODIFIED:20240710T204152Z
UID:34101-1722103200-1722114000@budandritas.com
SUMMARY:Funnies Gummies Pop-Up @ Niles
DESCRIPTION:Learn more about your favorite products from The Funnies Gummies!
URL:https://budandritas.com/event/funnies-gummies-pop-up-niles/
LOCATION:IL
ATTACH;FMTTYPE=image/png:https://budandritas.com/wp-content/uploads/2024/07/FUNNIES-@-NILES.png
END:VEVENT
BEGIN:VEVENT
DTSTART;TZID=America/Chicago:20240727T180000
DTEND;TZID=America/Chicago:20240727T200000
DTSTAMP:20260422T165637
CREATED:20240719T162702Z
LAST-MODIFIED:20240722T151310Z
UID:34496-1722103200-1722110400@budandritas.com
SUMMARY:Giggle Hour @ The Budrista Club - Avondale
DESCRIPTION:Giggles at Bud and Rita’s is an open mic version of Giggle Hour\, THE Chicago poetry comedy show! This open mic is literary genius\, it’s incredible silliness\, it’s NOT a bummer—guaranteed. Join us for a poetry comedy open mic that’s sure to have you giggling the night away at Chicago’s new cannabis dispensary chain. Watch fellow gigglers perform comedic poetry\, followed by the Giggle Hour producers headlining the night! \nSign-ups for the open mic are available here.
URL:https://budandritas.com/event/giggle-hour-the-budrista-club-avondale/
LOCATION:Budrista Club\, 3425 W Belmont Ave.\, Chicago\, IL\, 60618
ATTACH;FMTTYPE=image/jpeg:https://budandritas.com/wp-content/uploads/2024/07/budandritas_gigglehour.jpg
END:VEVENT
END:VCALENDAR