BEGIN:VCALENDAR
VERSION:2.0
PRODID:-//Bud &amp; Rita&#039;s - ECPv6.15.17.1//NONSGML v1.0//EN
CALSCALE:GREGORIAN
METHOD:PUBLISH
X-ORIGINAL-URL:https://budandritas.com
X-WR-CALDESC:Events for Bud &amp; Rita&#039;s
REFRESH-INTERVAL;VALUE=DURATION:PT1H
X-Robots-Tag:noindex
X-PUBLISHED-TTL:PT1H
BEGIN:VTIMEZONE
TZID:America/Chicago
BEGIN:DAYLIGHT
TZOFFSETFROM:-0600
TZOFFSETTO:-0500
TZNAME:CDT
DTSTART:20240310T080000
END:DAYLIGHT
BEGIN:STANDARD
TZOFFSETFROM:-0500
TZOFFSETTO:-0600
TZNAME:CST
DTSTART:20241103T070000
END:STANDARD
BEGIN:DAYLIGHT
TZOFFSETFROM:-0600
TZOFFSETTO:-0500
TZNAME:CDT
DTSTART:20250309T080000
END:DAYLIGHT
BEGIN:STANDARD
TZOFFSETFROM:-0500
TZOFFSETTO:-0600
TZNAME:CST
DTSTART:20251102T070000
END:STANDARD
BEGIN:DAYLIGHT
TZOFFSETFROM:-0600
TZOFFSETTO:-0500
TZNAME:CDT
DTSTART:20260308T080000
END:DAYLIGHT
BEGIN:STANDARD
TZOFFSETFROM:-0500
TZOFFSETTO:-0600
TZNAME:CST
DTSTART:20261101T070000
END:STANDARD
BEGIN:DAYLIGHT
TZOFFSETFROM:-0600
TZOFFSETTO:-0500
TZNAME:CDT
DTSTART:20270314T080000
END:DAYLIGHT
BEGIN:STANDARD
TZOFFSETFROM:-0500
TZOFFSETTO:-0600
TZNAME:CST
DTSTART:20271107T070000
END:STANDARD
END:VTIMEZONE
BEGIN:VEVENT
DTSTART;TZID=America/Chicago:20250524T120000
DTEND;TZID=America/Chicago:20250524T160000
DTSTAMP:20260422T165544
CREATED:20250519T201954Z
LAST-MODIFIED:20250519T201954Z
UID:127225-1748088000-1748102400@budandritas.com
SUMMARY:Dog Adoption @ Avondale
DESCRIPTION:Join us for a paws-itively adorable dog adoption session at B&R Avondale sponsored by @ngwbrands! Come meet some adorable furry friends from @anticruelty… and maybe even take one home with you 🏡 Any adopters will get the opportunity to receive an initial free day of daycare from our neighbors over at @barksville_chicago 🐶 \nBONUS: Adopt a pup to enter to win a doggie bag of Bud & Rita’s themed pet merch!
URL:https://budandritas.com/event/dog-adoption-avondale/
LOCATION:Bud & Rita’s – Avondale\, 3425 W Belmont Ave\, Chicago\, IL\, 60618
ATTACH;FMTTYPE=image/png:https://budandritas.com/wp-content/uploads/2025/05/DOG-ADOPTION-@-AVONDALE.png
END:VEVENT
BEGIN:VEVENT
DTSTART;TZID=America/Chicago:20250607T110000
DTEND;TZID=America/Chicago:20250607T140000
DTSTAMP:20260422T165544
CREATED:20250519T202201Z
LAST-MODIFIED:20250519T202216Z
UID:127231-1749294000-1749304800@budandritas.com
SUMMARY:Dog + Cat Adoption @ Avondale
DESCRIPTION:Join us for a paws-itively adorable dog + cat adoption session at B&R Avondale sponsored by @ngwbrands! Come meet some adorable furry friends from @sayvanimalorg… and maybe even take one home with you 🏡 Any adopters will get the opportunity to receive an initial free day of daycare from our neighbors over at @barksville_chicago 🐶 \nBONUS: Adopt a pup to enter to win a doggie bag of Bud & Rita’s themed pet merch!
URL:https://budandritas.com/event/127231/
LOCATION:Bud & Rita’s – Avondale\, 3425 W Belmont Ave\, Chicago\, IL\, 60618
ATTACH;FMTTYPE=image/png:https://budandritas.com/wp-content/uploads/2025/05/DOG-CAT-ADOPTION-@-AVONDALE.png
END:VEVENT
BEGIN:VEVENT
DTSTART;TZID=America/Chicago:20250725T160000
DTEND;TZID=America/Chicago:20250725T200000
DTSTAMP:20260422T165544
CREATED:20250702T132226Z
LAST-MODIFIED:20250702T212004Z
UID:150521-1753459200-1753473600@budandritas.com
SUMMARY:July Pet Adoption @ Niles
DESCRIPTION:Join us for a paws-itively adorable pet adoption session at B&R Niles sponsored by @ngwbrands! Come meet some adorable furry friends from Chicago Canine Rescue… and maybe even take one home with you 🏡
URL:https://budandritas.com/event/pet-adoption-niles/
LOCATION:Bud & Rita’s – Niles\, 5960 W Touhy Ave\, Niles\, IL\, 60714
ATTACH;FMTTYPE=image/png:https://budandritas.com/wp-content/uploads/2025/07/PET-ADOPTION-@-NILES.png
END:VEVENT
BEGIN:VEVENT
DTSTART;TZID=America/Chicago:20250920T110000
DTEND;TZID=America/Chicago:20250920T170000
DTSTAMP:20260422T165544
CREATED:20250912T140933Z
LAST-MODIFIED:20250912T222324Z
UID:193804-1758366000-1758387600@budandritas.com
SUMMARY:Forsyth Grand Opening!
DESCRIPTION:Hey Forsyth Friends 👋 \nYou’re officially invited to the 🎉Grand Opening Celebration 🎉 of Bud & Rita’s Forsyth! Join us on Sept. 20th for a day of classic B&R festivities from 11am-5pm\, with a Ribbon Cutting at 1pm ✂️ Enjoy delicious food trucks\, live music by local artists\, giveaway goodies from @ngwbrands\, and so much more! See you there 🥳 \n  \n \n 
URL:https://budandritas.com/event/forsyth-grand-opening/
LOCATION:Bud & Rita’s – Forsyth\, 1401 Hickory Point Dr.\, Forsyth\, IL\, 62535\, United States
ATTACH;FMTTYPE=image/png:https://budandritas.com/wp-content/uploads/2025/09/GRAND-OPENING-@-FORSYTH.png
END:VEVENT
BEGIN:VEVENT
DTSTART;TZID=America/Chicago:20250927T090000
DTEND;TZID=America/Chicago:20250927T110000
DTSTAMP:20260422T165544
CREATED:20250924T193533Z
LAST-MODIFIED:20250924T201400Z
UID:210294-1758963600-1758970800@budandritas.com
SUMMARY:Best in Grass Launch Event @ Avondale
DESCRIPTION:Ever dream of being a canna-critic? Now’s your chance! Stop by B&R Avondale this Saturday 9/27 to pick up your 2025 Judging Kit by Best in Grass🏆 \nExplore across 16 categories of products ranging from solventless concentrate\, to infused pre-rolls\, to simple high-quality flower. Be sure to get to B&R at 9am to get your hands on one of these bad boys! Pick your Best in Grass kit\, get to sampling\, and judge away 🤩 \nSubmit your reviews via Best in Grass by 11/17 to ensure that your voice is heard 🏅
URL:https://budandritas.com/event/best-in-grass-launch-party-avondale/
LOCATION:Bud & Rita’s – Avondale\, 3425 W Belmont Ave\, Chicago\, IL\, 60618
ATTACH;FMTTYPE=image/png:https://budandritas.com/wp-content/uploads/2025/09/BEST-IN-GRASS-@-AVONDALE-1.png
END:VEVENT
BEGIN:VEVENT
DTSTART;TZID=America/Chicago:20251004T110000
DTEND;TZID=America/Chicago:20251004T160000
DTSTAMP:20260422T165544
CREATED:20250912T202945Z
LAST-MODIFIED:20250912T203007Z
UID:194639-1759575600-1759593600@budandritas.com
SUMMARY:Vintage Market @ Avondale
DESCRIPTION:Feeling extra retro lately? Got a craving for some vintage? Stop by B&R Avondale for our pop-up Vintage Market with Bunny and Rita Vintage! Join us Saturday Oct. 4 from 11am-4pm for our pop-up vintage market – complete with clothing\, jewelry\, lighters\, and other old-school trinkets 🏺🪆🪭 See you there! \n  \nB&R Vintage Market\nSaturday 10/4\n11am-4pm\nBud & Rita’s Avondale (3425 W. Belmont Ave)\n21+
URL:https://budandritas.com/event/vintage-market-avondale/
LOCATION:Bud & Rita’s – Avondale\, 3425 W Belmont Ave\, Chicago\, IL\, 60618
ATTACH;FMTTYPE=image/png:https://budandritas.com/wp-content/uploads/2025/09/VINTAGE-MARKET-@-AVONDALE.png
END:VEVENT
BEGIN:VEVENT
DTSTART;TZID=America/Chicago:20251005T140000
DTEND;TZID=America/Chicago:20251005T170000
DTSTAMP:20260422T165544
CREATED:20250919T170036Z
LAST-MODIFIED:20250922T145707Z
UID:202572-1759672800-1759683600@budandritas.com
SUMMARY:Self Care Sunday @ Avondale
DESCRIPTION:🪴Join us for an afternoon of Self Care with Scratch Goods! Try unique natural skincare products + make your own custom sheet mask for free when you shop at Bud & Rita’s Avondale on 10/5✨
URL:https://budandritas.com/event/self-care-sunday-avondale/
LOCATION:Bud & Rita’s – Avondale\, 3425 W Belmont Ave\, Chicago\, IL\, 60618
ATTACH;FMTTYPE=image/png:https://budandritas.com/wp-content/uploads/2025/09/SELF-CARE-SUNDAY-@-AVONDALE.png
END:VEVENT
BEGIN:VEVENT
DTSTART;TZID=America/Chicago:20260331T120000
DTEND;TZID=America/Chicago:20260331T180000
DTSTAMP:20260422T165544
CREATED:20260326T174324Z
LAST-MODIFIED:20260326T174849Z
UID:515283-1774958400-1774980000@budandritas.com
SUMMARY:Job Fair: Join the Team at The Loop
DESCRIPTION:This is your chance to join Bud and Rita’s – a chain of dispensaries operating throughout the state of Illinois. At Bud & Rita’s\, we are committed to providing a premium cannabis experience that surpasses all expectations. At our core we are seeking to embody the essence of MIDWEST HOSPITALITY which means an atmosphere of warmth and welcome\, personalized customer service\, and unwavering dedication to customer satisfaction. \n  \nJoin us Tuesday\, March 31st between 12pm – 6pm or Wednesday\, April 1st between 9am – 3pm \n  \nApply Today! \n 
URL:https://budandritas.com/event/job-fair-for-the-loop/
LOCATION:Bud & Rita’s – Avondale\, 3425 W Belmont Ave\, Chicago\, IL\, 60618
ATTACH;FMTTYPE=image/png:https://budandritas.com/wp-content/uploads/2026/03/JOB-FAIR-THE-LOOP.png
END:VEVENT
BEGIN:VEVENT
DTSTART;TZID=America/Chicago:20260401T090000
DTEND;TZID=America/Chicago:20260401T150000
DTSTAMP:20260422T165544
CREATED:20260326T174959Z
LAST-MODIFIED:20260326T174959Z
UID:515424-1775034000-1775055600@budandritas.com
SUMMARY:Job Fair: Join the Team at The Loop
DESCRIPTION:This is your chance to join Bud and Rita’s – a chain of dispensaries operating throughout the state of Illinois. At Bud & Rita’s\, we are committed to providing a premium cannabis experience that surpasses all expectations. At our core we are seeking to embody the essence of MIDWEST HOSPITALITY which means an atmosphere of warmth and welcome\, personalized customer service\, and unwavering dedication to customer satisfaction. \n  \nJoin us Tuesday\, March 31st between 12pm – 6pm or Wednesday\, April 1st between 9am – 3pm \n  \nApply Today! \n 
URL:https://budandritas.com/event/job-fair-join-the-team-at-the-loop/
LOCATION:IL
ATTACH;FMTTYPE=image/png:https://budandritas.com/wp-content/uploads/2026/03/JOB-FAIR-THE-LOOP.png
END:VEVENT
END:VCALENDAR