BEGIN:VCALENDAR
VERSION:2.0
PRODID:-//Bud &amp; Rita&#039;s - ECPv6.15.17.1//NONSGML v1.0//EN
CALSCALE:GREGORIAN
METHOD:PUBLISH
X-WR-CALNAME:Bud &amp; Rita&#039;s
X-ORIGINAL-URL:https://budandritas.com
X-WR-CALDESC:Events for Bud &amp; Rita&#039;s
REFRESH-INTERVAL;VALUE=DURATION:PT1H
X-Robots-Tag:noindex
X-PUBLISHED-TTL:PT1H
BEGIN:VTIMEZONE
TZID:America/Chicago
BEGIN:DAYLIGHT
TZOFFSETFROM:-0600
TZOFFSETTO:-0500
TZNAME:CDT
DTSTART:20230312T080000
END:DAYLIGHT
BEGIN:STANDARD
TZOFFSETFROM:-0500
TZOFFSETTO:-0600
TZNAME:CST
DTSTART:20231105T070000
END:STANDARD
BEGIN:DAYLIGHT
TZOFFSETFROM:-0600
TZOFFSETTO:-0500
TZNAME:CDT
DTSTART:20240310T080000
END:DAYLIGHT
BEGIN:STANDARD
TZOFFSETFROM:-0500
TZOFFSETTO:-0600
TZNAME:CST
DTSTART:20241103T070000
END:STANDARD
BEGIN:DAYLIGHT
TZOFFSETFROM:-0600
TZOFFSETTO:-0500
TZNAME:CDT
DTSTART:20250309T080000
END:DAYLIGHT
BEGIN:STANDARD
TZOFFSETFROM:-0500
TZOFFSETTO:-0600
TZNAME:CST
DTSTART:20251102T070000
END:STANDARD
END:VTIMEZONE
BEGIN:VEVENT
DTSTART;TZID=America/Chicago:20240725T173000
DTEND;TZID=America/Chicago:20240725T210000
DTSTAMP:20260422T165555
CREATED:20240710T203456Z
LAST-MODIFIED:20240710T203708Z
UID:34094-1721928600-1721941200@budandritas.com
SUMMARY:Unwind Topicals Pop-Up @ Niles
DESCRIPTION:Learn more about your favorite products from Unwind Topicals!
URL:https://budandritas.com/event/unwind-topicals-pop-up-niles/
LOCATION:Bud & Rita’s – Niles\, 5960 W Touhy Ave\, Niles\, IL\, 60714
ATTACH;FMTTYPE=image/png:https://budandritas.com/wp-content/uploads/2024/07/UNWIND-@-NILES.png
END:VEVENT
BEGIN:VEVENT
DTSTART;TZID=America/Chicago:20240724T160000
DTEND;TZID=America/Chicago:20240724T190000
DTSTAMP:20260422T165555
CREATED:20240710T200559Z
LAST-MODIFIED:20240710T201223Z
UID:34085-1721836800-1721847600@budandritas.com
SUMMARY:Kaviar Pop-Up @ Avondale
DESCRIPTION:Learn more about your favorite products from Kaviar!
URL:https://budandritas.com/event/kaviar-pop-up-avondale/
LOCATION:Bud & Rita’s – Avondale\, 3425 W Belmont Ave\, Chicago\, IL\, 60618
ATTACH;FMTTYPE=image/png:https://budandritas.com/wp-content/uploads/2024/07/KAVIAR-@-AVONDALE.png
END:VEVENT
BEGIN:VEVENT
DTSTART;TZID=America/Chicago:20240724T120000
DTEND;TZID=America/Chicago:20240724T150000
DTSTAMP:20260422T165555
CREATED:20240710T200924Z
LAST-MODIFIED:20240710T201243Z
UID:34089-1721822400-1721833200@budandritas.com
SUMMARY:Kaviar Pop-Up @ Niles
DESCRIPTION:Learn more about your favorite products from Kaviar!
URL:https://budandritas.com/event/kaviar-pop-up-niles/
LOCATION:Bud & Rita’s – Niles\, 5960 W Touhy Ave\, Niles\, IL\, 60714
ATTACH;FMTTYPE=image/png:https://budandritas.com/wp-content/uploads/2024/07/KAVIAR-@-NILES.png
END:VEVENT
BEGIN:VEVENT
DTSTART;TZID=America/Chicago:20240719T173000
DTEND;TZID=America/Chicago:20240719T210000
DTSTAMP:20260422T165555
CREATED:20240710T200103Z
LAST-MODIFIED:20240710T203311Z
UID:34079-1721410200-1721422800@budandritas.com
SUMMARY:Unwind Topicals Pop-Up @ Avondale
DESCRIPTION:Learn more about your favorite products from Unwind Topicals!
URL:https://budandritas.com/event/unwind-topicals-avondale/
LOCATION:Bud & Rita’s – Avondale\, 3425 W Belmont Ave\, Chicago\, IL\, 60618
ATTACH;FMTTYPE=image/png:https://budandritas.com/wp-content/uploads/2024/07/UNWIND-@-AVONDALE.png
END:VEVENT
BEGIN:VEVENT
DTSTART;TZID=America/Chicago:20240718T060000
DTEND;TZID=America/Chicago:20240718T210000
DTSTAMP:20260422T165555
CREATED:20240710T195933Z
LAST-MODIFIED:20240710T201347Z
UID:34076-1721282400-1721336400@budandritas.com
SUMMARY:Yubalachia Pop-Up @ Niles
DESCRIPTION:Learn more about your favorite products from Yubalachia!
URL:https://budandritas.com/event/yubalachia-pop-up-niles/
LOCATION:Bud & Rita’s – Niles\, 5960 W Touhy Ave\, Niles\, IL\, 60714
ATTACH;FMTTYPE=image/png:https://budandritas.com/wp-content/uploads/2024/07/YUBALACHIA-@-NILES.png
END:VEVENT
BEGIN:VEVENT
DTSTART;TZID=America/Chicago:20240713T170000
DTEND;TZID=America/Chicago:20240713T200000
DTSTAMP:20260422T165555
CREATED:20240710T190907Z
LAST-MODIFIED:20240710T201803Z
UID:34065-1720890000-1720900800@budandritas.com
SUMMARY:Chuchaqui Cocktails @ Niles
DESCRIPTION:We’re so excited to host a summer ☀️mocktail series brought to you by the amazing @chuchaquicocktails ! (pronounced: choo-cha-key)🍹 \nThis Saturday at Bud & Rita’s Niles\, you’ll find the tastiest mocktails that you can take with you to help you stay refreshed and hydrated💦 this summer
URL:https://budandritas.com/event/7-13-24-chuchaqui-cocktails/
LOCATION:IL
ATTACH;FMTTYPE=image/png:https://budandritas.com/wp-content/uploads/2024/07/CHUCHAQUI-COCKTAILS-@-NILES.png
END:VEVENT
BEGIN:VEVENT
DTSTART;TZID=America/Chicago:20240712T173000
DTEND;TZID=America/Chicago:20240712T210000
DTSTAMP:20260422T165555
CREATED:20240710T185434Z
LAST-MODIFIED:20240710T201829Z
UID:34060-1720805400-1720818000@budandritas.com
SUMMARY:NGW Pop-Up @ Niles
DESCRIPTION:Learn more about your favorite products from Nature’s Grace & Wellness!
URL:https://budandritas.com/event/ngw-pop-up-niles/
LOCATION:Bud & Rita’s – Niles\, 5960 W Touhy Ave\, Niles\, IL\, 60714
ATTACH;FMTTYPE=image/png:https://budandritas.com/wp-content/uploads/2024/07/NGW-@-NILES.png
END:VEVENT
BEGIN:VEVENT
DTSTART;TZID=America/Chicago:20240710T123000
DTEND;TZID=America/Chicago:20240710T160000
DTSTAMP:20260422T165555
CREATED:20240710T184154Z
LAST-MODIFIED:20240710T203153Z
UID:34050-1720614600-1720627200@budandritas.com
SUMMARY:NGW Pop-Up @ Avondale
DESCRIPTION:Learn more about your favorite products from Nature’s Grace & Wellness!
URL:https://budandritas.com/event/ngw-pop-up-avondale/
LOCATION:Bud & Rita’s – Avondale\, 3425 W Belmont Ave\, Chicago\, IL\, 60618
ATTACH;FMTTYPE=image/png:https://budandritas.com/wp-content/uploads/2024/07/NGW-@-AVONDALE.png
END:VEVENT
BEGIN:VEVENT
DTSTART;TZID=America/Chicago:20240710T120000
DTEND;TZID=America/Chicago:20240710T190000
DTSTAMP:20260422T165555
CREATED:20240508T202615Z
LAST-MODIFIED:20240710T203221Z
UID:28417-1720612800-1720638000@budandritas.com
SUMMARY:710 @ Bud & Rita's Avondale
DESCRIPTION:Celebrate 710 at Bud & Rita’s Avondale! \n12-4: Enjoy a smoke sesh on the Puff Bus \n3-6: NGW Pop-Up featuring concentrate & JOOS products \n4-7: FREE TACOS (while supplies last) \n5-7: Spin the Wheel of Weed to win dank prizes \nPLUS: Shop sales on concentrates\, vapes & more all day long! \n 
URL:https://budandritas.com/event/710-at-avondale/
LOCATION:Budrista Club\, 3425 W Belmont Ave.\, Chicago\, IL\, 60618
ATTACH;FMTTYPE=image/png:https://budandritas.com/wp-content/uploads/2024/05/full-week-specials-CRM.png
END:VEVENT
END:VCALENDAR