BEGIN:VCALENDAR
VERSION:2.0
PRODID:-//Bud &amp; Rita&#039;s - ECPv6.15.17.1//NONSGML v1.0//EN
CALSCALE:GREGORIAN
METHOD:PUBLISH
X-ORIGINAL-URL:https://budandritas.com
X-WR-CALDESC:Events for Bud &amp; Rita&#039;s
REFRESH-INTERVAL;VALUE=DURATION:PT1H
X-Robots-Tag:noindex
X-PUBLISHED-TTL:PT1H
BEGIN:VTIMEZONE
TZID:America/Chicago
BEGIN:DAYLIGHT
TZOFFSETFROM:-0600
TZOFFSETTO:-0500
TZNAME:CDT
DTSTART:20230312T080000
END:DAYLIGHT
BEGIN:STANDARD
TZOFFSETFROM:-0500
TZOFFSETTO:-0600
TZNAME:CST
DTSTART:20231105T070000
END:STANDARD
BEGIN:DAYLIGHT
TZOFFSETFROM:-0600
TZOFFSETTO:-0500
TZNAME:CDT
DTSTART:20240310T080000
END:DAYLIGHT
BEGIN:STANDARD
TZOFFSETFROM:-0500
TZOFFSETTO:-0600
TZNAME:CST
DTSTART:20241103T070000
END:STANDARD
BEGIN:DAYLIGHT
TZOFFSETFROM:-0600
TZOFFSETTO:-0500
TZNAME:CDT
DTSTART:20250309T080000
END:DAYLIGHT
BEGIN:STANDARD
TZOFFSETFROM:-0500
TZOFFSETTO:-0600
TZNAME:CST
DTSTART:20251102T070000
END:STANDARD
END:VTIMEZONE
BEGIN:VEVENT
DTSTART;TZID=America/Chicago:20241005T110000
DTEND;TZID=America/Chicago:20241005T170000
DTSTAMP:20260422T073044
CREATED:20240917T195159Z
LAST-MODIFIED:20240919T152857Z
UID:40718-1728126000-1728147600@budandritas.com
SUMMARY:Vintage Bazaar @ Avondale
DESCRIPTION:Bud & Rita’s is getting retro with it at the B&R Bazaar! We’re partnering with Bunny and Rita’s Vintage to make your canna-shopping a little extra special with some awesome antique vendors.\n\n\n\nCome by our Avondale shop on this Saturday for our pop-up vintage market  –  complete with clothing\, jewelry\, vinyl\, and other old-school trinkets!
URL:https://budandritas.com/event/vintage-bazaar-avondale/
LOCATION:Budrista Club\, 3425 W Belmont Ave.\, Chicago\, IL\, 60618
ATTACH;FMTTYPE=image/png:https://budandritas.com/wp-content/uploads/2024/09/VINTAGE-BAZAAR-@-AVONDALE.png
END:VEVENT
BEGIN:VEVENT
DTSTART;TZID=America/Chicago:20241019T160000
DTEND;TZID=America/Chicago:20241019T190000
DTSTAMP:20260422T073044
CREATED:20241010T155443Z
LAST-MODIFIED:20241010T155443Z
UID:43364-1729353600-1729364400@budandritas.com
SUMMARY:Legacy Pop-Up @ Avondale
DESCRIPTION:Learn more about your favorite products from Legacy! \n\n 
URL:https://budandritas.com/event/legacy-pop-up-avondale/
LOCATION:Bud & Rita’s – Avondale\, 3425 W Belmont Ave\, Chicago\, IL\, 60618
ATTACH;FMTTYPE=image/png:https://budandritas.com/wp-content/uploads/2024/10/LEGACY-@-AVONDALE.png
END:VEVENT
BEGIN:VEVENT
DTSTART;TZID=America/Chicago:20241024T100000
DTEND;TZID=America/Chicago:20241024T140000
DTSTAMP:20260422T073044
CREATED:20241022T203047Z
LAST-MODIFIED:20241022T203047Z
UID:45636-1729764000-1729778400@budandritas.com
SUMMARY:Glass Blowing @ Niles
DESCRIPTION:Come check out Otto’s glass blowing from 10a-2p this Thursday! Watch the demonstration then take home your very own one-hitter 💨 or pet tag 🐾
URL:https://budandritas.com/event/glass-blowing-niles/
LOCATION:Bud & Rita’s – Niles\, 5960 W Touhy Ave\, Niles\, IL\, 60714
ATTACH;FMTTYPE=image/png:https://budandritas.com/wp-content/uploads/2024/10/GLASS-BLOWING-@-NILES.png
END:VEVENT
BEGIN:VEVENT
DTSTART;TZID=America/Chicago:20241024T160000
DTEND;TZID=America/Chicago:20241024T200000
DTSTAMP:20260422T073044
CREATED:20241022T202933Z
LAST-MODIFIED:20241022T202933Z
UID:45632-1729785600-1729800000@budandritas.com
SUMMARY:Glass Blowing @ Avondale
DESCRIPTION:Come check out Otto’s glass blowing from 4-8pm this Thursday! Watch the demonstration then take home your very own one-hitter 💨 or pet tag 🐾
URL:https://budandritas.com/event/glass-blowing-avondale/
LOCATION:Bud & Rita’s – Avondale\, 3425 W Belmont Ave\, Chicago\, IL\, 60618
ATTACH;FMTTYPE=image/png:https://budandritas.com/wp-content/uploads/2024/10/GLASS-BLOWING-@-AVONDALE.png
END:VEVENT
END:VCALENDAR