BEGIN:VCALENDAR
VERSION:2.0
PRODID:-//Bud &amp; Rita&#039;s - ECPv6.15.17.1//NONSGML v1.0//EN
CALSCALE:GREGORIAN
METHOD:PUBLISH
X-ORIGINAL-URL:https://budandritas.com
X-WR-CALDESC:Events for Bud &amp; Rita&#039;s
REFRESH-INTERVAL;VALUE=DURATION:PT1H
X-Robots-Tag:noindex
X-PUBLISHED-TTL:PT1H
BEGIN:VTIMEZONE
TZID:America/Chicago
BEGIN:DAYLIGHT
TZOFFSETFROM:-0600
TZOFFSETTO:-0500
TZNAME:CDT
DTSTART:20240310T080000
END:DAYLIGHT
BEGIN:STANDARD
TZOFFSETFROM:-0500
TZOFFSETTO:-0600
TZNAME:CST
DTSTART:20241103T070000
END:STANDARD
BEGIN:DAYLIGHT
TZOFFSETFROM:-0600
TZOFFSETTO:-0500
TZNAME:CDT
DTSTART:20250309T080000
END:DAYLIGHT
BEGIN:STANDARD
TZOFFSETFROM:-0500
TZOFFSETTO:-0600
TZNAME:CST
DTSTART:20251102T070000
END:STANDARD
BEGIN:DAYLIGHT
TZOFFSETFROM:-0600
TZOFFSETTO:-0500
TZNAME:CDT
DTSTART:20260308T080000
END:DAYLIGHT
BEGIN:STANDARD
TZOFFSETFROM:-0500
TZOFFSETTO:-0600
TZNAME:CST
DTSTART:20261101T070000
END:STANDARD
END:VTIMEZONE
BEGIN:VEVENT
DTSTART;TZID=America/Chicago:20250228T150000
DTEND;TZID=America/Chicago:20250302T150000
DTSTAMP:20260422T001954
CREATED:20250218T184325Z
LAST-MODIFIED:20250219T203300Z
UID:81847-1740754800-1740927600@budandritas.com
SUMMARY:Wadsworth Grand Opening!
DESCRIPTION:Join us this weekend to celebrate our Grand Opening & enjoy local food trucks\, merch giveaways\, 1¢ freebies\, Mega Pot Luck Raffles\, and MORE! \n  \nFriday: 3PM – 7PM \nSaturday: 11AM – 5PM (Ribbon Cutting: 1pm) \nSunday: 11AM – 3PM \n 
URL:https://budandritas.com/event/wadswoth-grand-opening/
LOCATION:Bud & Rita’s – Wadsworth\, 41509 US Hwy 41\, Wadsworth\, IL\, 60083\, United States
ATTACH;FMTTYPE=image/png:https://budandritas.com/wp-content/uploads/2025/02/GRAND-OPENING-@-WADSWORTH.png
END:VEVENT
BEGIN:VEVENT
DTSTART;TZID=America/Chicago:20250312T160000
DTEND;TZID=America/Chicago:20250312T190000
DTSTAMP:20260422T001954
CREATED:20250310T200921Z
LAST-MODIFIED:20250310T202934Z
UID:88024-1741795200-1741806000@budandritas.com
SUMMARY:Timeless @ Niles
DESCRIPTION:Learn more about your favorite products from Timeless from 4-7 at Niles!
URL:https://budandritas.com/event/timeless/
LOCATION:Bud & Rita’s – Niles\, 5960 W Touhy Ave\, Niles\, IL\, 60714
ATTACH;FMTTYPE=image/png:https://budandritas.com/wp-content/uploads/2025/03/BR-WEST-TOWN-3_13-TV.png
END:VEVENT
BEGIN:VEVENT
DTSTART;TZID=America/Chicago:20250312T160000
DTEND;TZID=America/Chicago:20250314T190000
DTSTAMP:20260422T001954
CREATED:20250310T200838Z
LAST-MODIFIED:20250310T202904Z
UID:88014-1741795200-1741978800@budandritas.com
SUMMARY:Timeless @ Avondale
DESCRIPTION:Learn more about your favorite products from Timeless from 4-7 at Avondale!
URL:https://budandritas.com/event/timeless-avondale/
LOCATION:Bud & Rita’s – Avondale\, 3425 W Belmont Ave\, Chicago\, IL\, 60618
ATTACH;FMTTYPE=image/png:https://budandritas.com/wp-content/uploads/2025/03/BR-AVONDALE-3_12-TV.png.png
END:VEVENT
BEGIN:VEVENT
DTSTART;TZID=America/Chicago:20250313T160000
DTEND;TZID=America/Chicago:20250313T190000
DTSTAMP:20260422T001954
CREATED:20250310T201154Z
LAST-MODIFIED:20250310T201211Z
UID:88027-1741881600-1741892400@budandritas.com
SUMMARY:Timeless @ West Town
DESCRIPTION:Learn more about your favorite products from Timeless from 4-7 at West Town!
URL:https://budandritas.com/event/88027/
LOCATION:Bud & Rita’s – West Town\, 1914 W Chicago Ave\, Chicago\, IL\, 60622\, United States
ATTACH;FMTTYPE=image/png:https://budandritas.com/wp-content/uploads/2025/03/TIMELESS-@-WEST-TOWN.png
END:VEVENT
BEGIN:VEVENT
DTSTART;TZID=America/Chicago:20250329T120000
DTEND;TZID=America/Chicago:20250329T160000
DTSTAMP:20260422T001954
CREATED:20250314T205227Z
LAST-MODIFIED:20250314T205346Z
UID:88830-1743249600-1743264000@budandritas.com
SUMMARY:Tattoo Parlor Pop-Up @ Avondale
DESCRIPTION:Ever get inked at a dispensary? Come by Bud & Rita’s Avondale on Saturday 3/29 to get a one-of-a-kind tattoo inspired by the creativity of Second Setting\, a collaborative brand from the minds of Half Acre Brewing and Nature’s Grace & Wellness! We’ve got 12 slots for you to sign up via our link in bio – the first five people to check in the day-of will get the chance to get inked by Chicago artist David Sugihara FOR FREE. After those first five folks are tatted\, customers will be charged accordingly based on the size of their tattoos. Tattoos are limited to our flash sheet only\nImportant Notes\nReservation to join that day will be capped at 12 people. Reserve your spot with a $15 charge that will be returned upon check-in the day of the event.  The first five people (who have signed up via our EventBrite) to check in will get tatted FOR FREE. Please note that reserving a slot does not guarantee a free tattoo.\nTattoo Locations limited to arms & legs only.\n1 tattoo per person.\nTattoo pricing will range from $100-$150 per tattoo after the first five customers – prices may vary based on size\, location\, and color.\nBe prepared to bring a valid ID. 21+ only. \n \n 
URL:https://budandritas.com/event/tattoo-parlor-pop-up-avondale/
LOCATION:Bud & Rita’s – Avondale\, 3425 W Belmont Ave\, Chicago\, IL\, 60618
ATTACH;FMTTYPE=image/png:https://budandritas.com/wp-content/uploads/2024/11/SECOND-SETTING-TATTOO-POP-UP-@-AVONDALE.png
END:VEVENT
END:VCALENDAR