BEGIN:VCALENDAR
VERSION:2.0
PRODID:-//Bud &amp; Rita&#039;s - ECPv6.15.17.1//NONSGML v1.0//EN
CALSCALE:GREGORIAN
METHOD:PUBLISH
X-ORIGINAL-URL:https://budandritas.com
X-WR-CALDESC:Events for Bud &amp; Rita&#039;s
REFRESH-INTERVAL;VALUE=DURATION:PT1H
X-Robots-Tag:noindex
X-PUBLISHED-TTL:PT1H
BEGIN:VTIMEZONE
TZID:America/Chicago
BEGIN:DAYLIGHT
TZOFFSETFROM:-0600
TZOFFSETTO:-0500
TZNAME:CDT
DTSTART:20230312T080000
END:DAYLIGHT
BEGIN:STANDARD
TZOFFSETFROM:-0500
TZOFFSETTO:-0600
TZNAME:CST
DTSTART:20231105T070000
END:STANDARD
BEGIN:DAYLIGHT
TZOFFSETFROM:-0600
TZOFFSETTO:-0500
TZNAME:CDT
DTSTART:20240310T080000
END:DAYLIGHT
BEGIN:STANDARD
TZOFFSETFROM:-0500
TZOFFSETTO:-0600
TZNAME:CST
DTSTART:20241103T070000
END:STANDARD
BEGIN:DAYLIGHT
TZOFFSETFROM:-0600
TZOFFSETTO:-0500
TZNAME:CDT
DTSTART:20250309T080000
END:DAYLIGHT
BEGIN:STANDARD
TZOFFSETFROM:-0500
TZOFFSETTO:-0600
TZNAME:CST
DTSTART:20251102T070000
END:STANDARD
END:VTIMEZONE
BEGIN:VEVENT
DTSTART;TZID=America/Chicago:20240724T120000
DTEND;TZID=America/Chicago:20240724T150000
DTSTAMP:20260422T165345
CREATED:20240710T200924Z
LAST-MODIFIED:20240710T201243Z
UID:34089-1721822400-1721833200@budandritas.com
SUMMARY:Kaviar Pop-Up @ Niles
DESCRIPTION:Learn more about your favorite products from Kaviar!
URL:https://budandritas.com/event/kaviar-pop-up-niles/
LOCATION:Bud & Rita’s – Niles\, 5960 W Touhy Ave\, Niles\, IL\, 60714
ATTACH;FMTTYPE=image/png:https://budandritas.com/wp-content/uploads/2024/07/KAVIAR-@-NILES.png
END:VEVENT
BEGIN:VEVENT
DTSTART;TZID=America/Chicago:20240724T160000
DTEND;TZID=America/Chicago:20240724T190000
DTSTAMP:20260422T165345
CREATED:20240710T200559Z
LAST-MODIFIED:20240710T201223Z
UID:34085-1721836800-1721847600@budandritas.com
SUMMARY:Kaviar Pop-Up @ Avondale
DESCRIPTION:Learn more about your favorite products from Kaviar!
URL:https://budandritas.com/event/kaviar-pop-up-avondale/
LOCATION:Bud & Rita’s – Avondale\, 3425 W Belmont Ave\, Chicago\, IL\, 60618
ATTACH;FMTTYPE=image/png:https://budandritas.com/wp-content/uploads/2024/07/KAVIAR-@-AVONDALE.png
END:VEVENT
END:VCALENDAR