BEGIN:VCALENDAR
VERSION:2.0
PRODID:-//Bud &amp; Rita&#039;s - ECPv6.15.17.1//NONSGML v1.0//EN
CALSCALE:GREGORIAN
METHOD:PUBLISH
X-WR-CALNAME:Bud &amp; Rita&#039;s
X-ORIGINAL-URL:https://budandritas.com
X-WR-CALDESC:Events for Bud &amp; Rita&#039;s
REFRESH-INTERVAL;VALUE=DURATION:PT1H
X-Robots-Tag:noindex
X-PUBLISHED-TTL:PT1H
BEGIN:VTIMEZONE
TZID:America/Chicago
BEGIN:DAYLIGHT
TZOFFSETFROM:-0600
TZOFFSETTO:-0500
TZNAME:CDT
DTSTART:20230312T080000
END:DAYLIGHT
BEGIN:STANDARD
TZOFFSETFROM:-0500
TZOFFSETTO:-0600
TZNAME:CST
DTSTART:20231105T070000
END:STANDARD
BEGIN:DAYLIGHT
TZOFFSETFROM:-0600
TZOFFSETTO:-0500
TZNAME:CDT
DTSTART:20240310T080000
END:DAYLIGHT
BEGIN:STANDARD
TZOFFSETFROM:-0500
TZOFFSETTO:-0600
TZNAME:CST
DTSTART:20241103T070000
END:STANDARD
BEGIN:DAYLIGHT
TZOFFSETFROM:-0600
TZOFFSETTO:-0500
TZNAME:CDT
DTSTART:20250309T080000
END:DAYLIGHT
BEGIN:STANDARD
TZOFFSETFROM:-0500
TZOFFSETTO:-0600
TZNAME:CST
DTSTART:20251102T070000
END:STANDARD
END:VTIMEZONE
BEGIN:VEVENT
DTSTART;TZID=America/Chicago:20241126T180000
DTEND;TZID=America/Chicago:20241126T220000
DTSTAMP:20260421T143829
CREATED:20241101T202856Z
LAST-MODIFIED:20241101T205450Z
UID:48034-1732644000-1732658400@budandritas.com
SUMMARY:Turkey Daze
DESCRIPTION:Join us for Industry Nights: Turkey Daze – Turkey Tuesday! Celebrate the Thanksgiving season with two nights of Back-To-Back Budrista Club fun at Homestead on the Roof\, featuring pizza from Roots Pizza\, awesome giveaways\, and the Budrista Bar. Sign up to the Budrista Club to join!
URL:https://budandritas.com/event/turkey-daze/
LOCATION:Homestead on the Roof\, 1924 W Chicago Ave\, Chicago\, IL\, 60622
ATTACH;FMTTYPE=image/png:https://budandritas.com/wp-content/uploads/2024/11/TURKEY-DAZE.png
END:VEVENT
BEGIN:VEVENT
DTSTART;TZID=America/Chicago:20241127T180000
DTEND;TZID=America/Chicago:20241127T220000
DTSTAMP:20260421T143829
CREATED:20241101T203117Z
LAST-MODIFIED:20241101T205429Z
UID:48037-1732730400-1732744800@budandritas.com
SUMMARY:Turkey Daze
DESCRIPTION:Join us for Industry Nights: Turkey Daze – Green Wednesday! Celebrate the Thanksgiving season with two nights of Back-To-Back Budrista Club fun at Homestead on the Roof\, featuring pizza from Roots Pizza\, awesome giveaways\, and the Budrista Bar. Sign up to the Budrista Club to join!
URL:https://budandritas.com/event/turkey-daze-2/
LOCATION:Homestead on the Roof\, 1924 W Chicago Ave\, Chicago\, IL\, 60622
ATTACH;FMTTYPE=image/png:https://budandritas.com/wp-content/uploads/2024/11/TURKEY-DAZE.png
END:VEVENT
END:VCALENDAR